Workbook

Sheet Критерии оценки
A1: Система
A2: для расчета результирующего оценочного показателя программы за _____________
A4: № п/п | B4: Критерий оценки | E4: Параметры оценки критерия (W) | F4: Коли-чественная оценка параметра (Wi) | G4: Наименование МП
B5: Наименование критерия | C5: Весовой коэффициент критерия | D5: Весовой коэффициент критерия
B6: (К1 – К8) | C6: (G1 – G8) | D6: (G1 – G8)
A7: 1. | B7: Индекс результативности <*> (рассчитывается заказчиком программы на основании разработанной методики оценки эффективности реализации программы, утвержденной до начала ее реализации) | C7: 0.55 | D7: 0.55 | E7: 1. Среднее значение выполнения целевых показателей, утвержденных в программе, составляет 90-100% | F7: 100
E8: Среднее значение выполнения целевых показателей составляет 60-89,9% | F8: 80
E9: Среднее значение выполнения целевых показателей составляет 30-59,9% | F9: 50
E10: Среднее значение выполнения целевых показателей составляет менее 30% | F10: 20
A11: 2. | B11: Уровень фактического финансирования программы с утвержденным планом в бюджете с уточненным | C11: 0.01 | E11: Финансовое обеспечение составило не менее 80% | F11: 100
E12: Финансовое обеспечение составило 50-79,9% | F12: 50
E13: Финансовое обеспечение составило менее 50% | F13: 20
A14: 3. | B14: Уровень фактического финансирования программы в соответствии с кассовым планом | C14: 0.15 | D14: 0.1 | E14: Финансовое обеспечение составило не менее 80% | F14: 100
E15: Финансовое обеспечение составило 50-79,9% | F15: 50
E16: Финансовое обеспечение составило менее 50% | F16: 20
A17: 4. | B17: Доля полученных средств на мероприятия программы из прочих (за исключением средств бюджета МО) источников | C17: 0.15 | E17: Доля средств составила выше 30% | F17: 100
E18: Доля средств составила 10-29,9% | F18: 50
E19: Доля средств составила менее 10% | F19: 20
A20: 5. | B20: Выполнение плановых сроков предоставления отчетов реализации программы | C20: 0.14 | D20: 0.35 | E20: Предоставление отчета в срок | F20: 100
E21: Предоставление отчета с опозданием | F21: 50

Sheet свод
B1: Отчет финансирования муниципальных программ за 2021 год по МР "Горный улус"
A3: № | B3: Наименование мероприятий | C3: Предусмотрено по программе на 2021 год(тыс.руб.) | I3: Уточнено в бюджете на 2021 год (тыс.руб.) | O3: Кассовые расходы за 2021 (тыс.руб.) | U3: КП 9 мес | V3: % исп
C4: Итого | D4: ФБ | E4: РБ | F4: МР | G4: МО | H4: ВБ | I4: Итого | J4: ФБ | K4: РБ | L4: МР | M4: МО | N4: ВБ | O4: Итого | P4: ФБ | Q4: РБ | R4: МР | S4: МО | T4: ВБ
A5: 1 | B5: Муниципальная программа «Обеспечение качественным жильем и повышение качества жилищно-коммунальных услуг в МР «Горный улус» на 2020-2024годы» | C5: =SUM(D5:H5) -> 13286.62 | D5: =SUM(D6+D9+D12) -> 0 | E5: =SUM(E6+E9+E12) -> 5960.62 | F5: =SUM(F6+F9+F12)+F16 -> 7326 | G5: =SUM(G6+G9+G12) -> 0 | H5: =SUM(H6+H9+H12) -> 0 | I5: =SUM(J5:N5) -> 125841.19 | J5: =SUM(J6+J9+J12) -> 106512.86 | K5: =SUM(K6+K9+K12) -> 7156.467 | L5: =SUM(L6+L9+L12)+L16 -> 9921.8598 | M5: =SUM(M6+M9+M12) -> 2250 | N5: =SUM(N6+N9+N12) -> 0 | O5: =SUM(P5:T5) -> 118404.05 | P5: =SUM(P6+P9+P12) -> 106512.86 | Q5: =SUM(Q6+Q9+Q12) -> 1430.607 | R5: =SUM(R6+R9+R12)+R16 -> 8210.5851 | S5: =SUM(S6+S9+S12) -> 2250 | T5: =SUM(T6+T9+T12) -> 0 | U5: =SUM(U6+U9+U12)+U16 -> 68094.12 | V5: =O5/I5*100 -> 94.090063 | AD5: =L5/I5*100 -> 7.8844296 | AE5: =M5/I5*100 -> 1.7879679
B6: Реализация градостроительной политики, развитие и освоение территорий | C6: =SUM(D6:H6) -> 2500 | F6: =F7+F8 -> 2500 | G6: =G7+G8 -> 0 | I6: =SUM(J6:N6) -> 2225.995 | L6: =L7+L8 -> 2225.995 | O6: =SUM(P6:T6) -> 1126.75 | R6: =R7+R8 -> 1126.75 | U6: =U7+U8 -> 1500
B7: Реализация градостроительной политики | C7: =SUM(D7:H7) -> 1500 | F7: 1500 | I7: =SUM(J7:N7) -> 1625.995 | L7: 1625.995 | O7: =SUM(P7:T7) -> 1126.75 | R7: 1126.75 | U7: 1500 | V7: =L7-R7 -> 499.24503
B8: Развитие и освоение территорий | C8: =SUM(D8:H8) -> 1000 | F8: 1000 | I8: =SUM(J8:N8) -> 600 | L8: 600 | O8: =SUM(P8:T8) -> 0 | V8: =L8-R8 -> 600
B9: Обеспечение граждан доступным и комфортным жильем | C9: =SUM(D9:H9) -> 6960.62 | D9: =SUM(D10:D11) -> 0 | E9: =SUM(E10:E11) -> 5960.62 | F9: =SUM(F10:F11) -> 1000 | G9: =SUM(G10:G11) -> 0 | H9: =SUM(H10:H11) -> 0 | I9: =SUM(J9:N9) -> 12317.17 | J9: =SUM(J10:J11) -> 2675.96 | K9: =SUM(K10:K11) -> 5958.55 | L9: =SUM(L10:L11) -> 1432.66 | M9: =SUM(M10:M11) -> 2250 | N9: =SUM(N10:N11) -> 0 | O9: =SUM(P9:T9) -> 6591.31 | P9: =SUM(P10:P11) -> 2675.96 | Q9: =SUM(Q10:Q11) -> 232.69 | R9: =SUM(R10:R11) -> 1432.66 | S9: =SUM(S10:S11) -> 2250 | T9: =SUM(T10:T11) -> 0 | U9: =SUM(U10:U11) -> 6591.31 | V9: =L9-R9 -> 0
B10: Обеспечение жилыми помещениями детей-сирот и детей, оставшихся без попечения родителей | C10: =SUM(D10:H10) -> 5960.62 | E10: 5960.62 | I10: =SUM(J10:N10) -> 5725.86 | K10: 5725.86 | O10: =SUM(P10:T10) -> 0 | V10: =L10-R10 -> 0
B11: Обеспечение жильем молодых семей | C11: =SUM(D11:H11) -> 1000 | F11: 1000 | G11: 0 | I11: =SUM(J11:N11) -> 6591.31 | J11: 2675.96 | K11: 232.69 | L11: 1432.66 | M11: 2250 | O11: =SUM(P11:T11) -> 6591.31 | P11: 2675.96 | Q11: 232.69 | R11: 1432.66 | S11: 2250 | U11: 6591.31 | V11: =L11-R11 -> 0
B12: Модернизация объектов коммунальной инфраструктуры | C12: =SUM(D12:H12) -> 2000 | D12: =SUM(D13:D15) -> 0 | E12: =SUM(E13:E15) -> 0 | F12: =SUM(F13:F15) -> 2000 | G12: =SUM(G13:G15) -> 0 | H12: =SUM(H13:H15) -> 0 | I12: =SUM(J12:N12) -> 108470.8 | J12: =SUM(J13:J15) -> 103836.9 | K12: =SUM(K13:K15) -> 1197.917 | L12: =SUM(L13:L15) -> 3435.9871 | O12: =SUM(P12:T12) -> 108149.16 | P12: =SUM(P13:P15) -> 103836.9 | Q12: =SUM(Q13:Q15) -> 1197.917 | R12: =SUM(R13:R15) -> 3114.3438 | U12: =SUM(U13:U15) -> 56664.09 | V12: =L12-R12 -> 321.64332
B13: Развитие водоснабжения | C13: =SUM(D13:H13) -> 2000 | F13: 2000 | I13: =SUM(J13:N13) -> 107900.8 | J13: 103836.9 | K13: 1197.917 | L13: =1490.4697+1375.51744 -> 2865.9871 | O13: =SUM(P13:T13) -> 107579.16 | P13: 103836.9 | Q13: 1197.917 | R13: =1168.82638+1375.51744 -> 2544.3438 | U13: 56094.09 | V13: =L13-R13 -> 321.64332
B14: Развитие водоотведения | C14: =SUM(D14:H14) -> 0 | I14: =SUM(J14:N14) -> 0 | O14: =SUM(P14:T14) -> 0 | V14: =L14-R14 -> 0
B15: .Развитие теплоснабжения | C15: =SUM(D15:H15) -> 0 | I15: =SUM(J15:N15) -> 570 | L15: 570 | O15: =SUM(P15:T15) -> 570 | R15: 570 | U15: 570 | V15: =L15-R15 -> 0
B16: Содействие развитию благоустройства территорий муниципальных образований | C16: =SUM(D16:H16) -> 1826 | F16: =SUM(F17:F17) -> 1826 | I16: =SUM(J16:N16) -> 2827.2176 | L16: =SUM(L17:L19) -> 2827.2176 | O16: =SUM(P16:T16) -> 2536.8313 | R16: =SUM(R17:R19) -> 2536.8313 | U16: =U17 -> 3338.72 | V16: =L16-R16 -> 290.3863
B17: Обустройство мест размещения отходов | C17: =SUM(D17:H17) -> 1826 | F17: 1826 | I17: =SUM(J17:N17) -> 1530.2176 | L17: =1331.66762+40+158.55 -> 1530.2176 | O17: =SUM(P17:T17) -> 1239.8313 | R17: =1115.94497+36.32135+40+47.565 -> 1239.8313 | U17: 3338.72 | V17: =L17-R17 -> 290.3863
B18: Снос здания д/с Умка | I18: =SUM(J18:N18) -> 347 | L18: 347 | O18: =SUM(P18:T18) -> 347 | R18: 347
B19: Перевозка песка для парковочных стоянок | I19: =SUM(J19:N19) -> 950 | L19: 950 | O19: =SUM(P19:T19) -> 950 | R19: 950
A20: 2 | B20: Муниципальная программа «Развитие дорожного хозяйства в МР «Горный улус» на 2020-2024 годы» | C20: =SUM(D20:H20) -> 14129.21 | D20: =SUM(D21:D23) -> 0 | E20: =SUM(E21:E23) -> 0 | F20: =SUM(F21:F23) -> 14129.21 | G20: =SUM(G21:G23) -> 0 | H20: =SUM(H21:H23) -> 0 | I20: =SUM(J20:N20) -> 35967.82 | J20: =SUM(J21:J23) -> 0 | K20: =SUM(K21:K23) -> 17710.66 | L20: =SUM(L21:L23) -> 18257.16 | M20: =SUM(M21:M23) -> 0 | N20: =SUM(N21:N23) -> 0 | O20: =SUM(P20:T20) -> 33636.09 | P20: =SUM(P21:P23) -> 0 | Q20: =SUM(Q21:Q23) -> 17710.66 | R20: =SUM(R21:R23) -> 15925.43 | S20: =SUM(S21:S23) -> 0 | T20: 0 | U20: =SUM(U21:U23) -> 14168.94 | V20: =O20/I20*100 -> 93.517177 | AD20: =L20/I20*100 -> 50.759707
A21: 2.1. | B21: Содержание, текущий и капитальный ремонт автомобильных дорог общего пользования местного значения | C21: =SUM(D21:H21) -> 4330.87 | F21: 4330.87 | I21: =SUM(J21:N21) -> 4596.52 | L21: =4296.52+300 -> 4596.52 | O21: =SUM(P21:T21) -> 4596.52 | R21: =4296.52+300 -> 4596.52 | U21: =3021.64+300 -> 3321.64
A22: 2.2. | B22: Инженерные сооружения муниципальных автомобильных дорог | C22: =SUM(D22:H22) -> 1951.85 | F22: 1951.85 | I22: =SUM(J22:N22) -> 17163.56 | K22: 10766.6 | L22: 6396.96 | O22: =SUM(P22:T22) -> 17163.56 | Q22: 10766.6 | R22: 6396.96 | U22: 6058.4
A23: 2.3. | B23: Строительство, реконструкция автомобильных дорог местного значения | C23: =SUM(D23:H23) -> 7846.49 | F23: 7846.49 | I23: =SUM(J23:N23) -> 14207.74 | K23: 6944.06 | L23: 7263.68 | O23: =SUM(P23:T23) -> 11876.01 | Q23: 6944.06 | R23: 4931.95 | U23: 4788.9
A24: 3 | B24: Ведомственная целевая программа "Охрана труда в МР «Горный улус» на 2020-2024годы" | C24: =SUM(D24:H24) -> 25 | D24: =SUM(D25+D27+D30+D32) -> 0 | E24: =SUM(E25+E27+E30+E32) -> 0 | F24: =SUM(F25+F27+F30+F32) -> 25 | G24: =SUM(G25+G27+G30+G32) -> 0 | H24: =SUM(H25+H27+H30+H32) -> 0 | I24: =SUM(I25+I27+I30+I32) -> 25 | J24: =SUM(J25+J27+J30+J32) -> 0 | K24: =SUM(K25+K27+K30+K32) -> 0 | ... U24: =SUM(U25+U27+U30+U32) -> 7214.6 | V24: =O24/I24*100 -> 100
B25: Специальная оценка условий труда работающих в организациях, расположенных на территории Горного улуса | C25: =SUM(D25:H25) -> 0 | D25: =SUM(D26:D26) -> 0 | E25: =SUM(E26:E26) -> 0 | F25: =SUM(F26:F26) -> 0 | G25: =SUM(G26:G26) -> 0 | H25: =SUM(H26:H26) -> 0 | I25: =SUM(J25:N25) -> 0 | L25: =SUM(L26:L26) -> 0 | M25: =SUM(M26:M26) -> 0 | N25: =SUM(N26:N26) -> 0 | O25: =SUM(P25:T25) -> 0 | R25: =SUM(R26:R26) -> 0 | S25: =SUM(S26:S26) -> 0 | T25: =SUM(T26:T26) -> 0 | U25: =SUM(U26:U26) -> 70
B26: Проведение специальной оценки условий труда, улучшение условий труда в организациях | C26: =SUM(D26:H26) -> 0 | I26: =SUM(J26:N26) -> 0 | O26: =SUM(P26:T26) -> 0 | U26: 70
B27: Непрерывная подготовка работников по охране труда | C27: =SUM(D27:H27) -> 25 | D27: =SUM(D28:D29) -> 0 | E27: =SUM(E28:E29) -> 0 | F27: =SUM(F28:F29) -> 25 | G27: =SUM(G28:G29) -> 0 | H27: =SUM(H28:H29) -> 0 | I27: =SUM(J27:N27) -> 25 | L27: =SUM(L28:L29) -> 25 | M27: =SUM(M28:M29) -> 0 | N27: =SUM(N28:N29) -> 0 | O27: =SUM(P27:T27) -> 25 | R27: =SUM(R28:R29) -> 25 | T27: =SUM(T28:T29) -> 0 | U27: =SUM(U28:U29) -> 224
B28: Выезды по обмену опытом по внедрению современных средств безопасности труда и улучшению условий труда работников, тиражирование лучших практик в сфере охраны труда | C28: =SUM(D28:H28) -> 5 | F28: 5 | I28: =SUM(J28:N28) -> 5 | L28: 5 | O28: =SUM(P28:T28) -> 5 | R28: 5 | U28: 5
B29: Обучение руководителей и работников организаций в области охраны труда. Организация и проведение семинаров по охране труда | C29: =SUM(D29:H29) -> 20 | F29: 20 | I29: =SUM(J29:N29) -> 20 | L29: 20 | O29: =SUM(P29:T29) -> 20 | R29: 20 | U29: =20+199 -> 219
B30: Информационное обеспечение и пропаганда охраны труда | C30: =SUM(D30:H30) -> 0 | D30: =SUM(D31:D31) -> 0 | E30: =SUM(E31:E31) -> 0 | F30: =SUM(F31:F31) -> 0 | G30: =SUM(G31:G31) -> 0 | H30: =SUM(H31:H31) -> 0 | I30: =SUM(J30:N30) -> 0 | L30: =SUM(L31:L31) -> 0 | M30: =SUM(M31:M31) -> 0 | N30: =SUM(N31:N31) -> 0 | O30: =SUM(P30:T30) -> 0
B31: Организация и проведение конкурсов на лучшую организацию и лучшего специалиста по охране труда | C31: =SUM(D31:H31) -> 0 | I31: =SUM(J31:N31) -> 0 | O31: =SUM(P31:T31) -> 0
B32: Управление профессиональными рисками | C32: =SUM(D32:H32) -> 0 | H32: =SUM(H33:H35) -> 0 | I32: =SUM(J32:N32) -> 0 | N32: =SUM(N33:N35) -> 0 | O32: =SUM(P32:T32) -> 0 | T32: =SUM(T33:T35) -> 0 | U32: =SUM(U33:U35) -> 6920.6
B33: Обеспечение работников средствами индивидуальной и коллективной защиты | C33: =SUM(D33:H33) -> 0 | I33: =SUM(J33:N33) -> 0 | O33: =SUM(P33:T33) -> 0 | U33: 3251
B34: Проведение медицинских осмотров работников | C34: =SUM(D34:H34) -> 0 | I34: =SUM(J34:N34) -> 0 | O34: =SUM(P34:T34) -> 0 | U34: 3162.9
B35: Другие мероприятия | C35: =SUM(D35:H35) -> 0 | I35: =SUM(J35:N35) -> 0 | O35: =SUM(P35:T35) -> 0 | U35: 506.7
A36: 4 | B36: Ведомственная целевая программа «Развитие кадрового потенциала муниципальных служащих и работников органов местного самоуправления МР "Горный улус" на 2020-2024годы» | C36: =SUM(C37:C37) -> 50 | D36: =SUM(D37:D37) -> 0 | E36: =SUM(E37:E37) -> 0 | F36: =SUM(F37:F37) -> 50 | G36: =SUM(G37:G37) -> 0 | H36: =SUM(H37:H37) -> 0 | I36: =SUM(J36:N36) -> 192.82 | J36: =SUM(J37:J37) -> 0 | K36: =SUM(K37:K37) -> 0 | L36: =SUM(L37:L37) -> 192.82 | M36: =SUM(M37:M37) -> 0 | N36: =SUM(N37:N37) -> 0 | O36: =SUM(P36:T36) -> 166.97 | P36: =SUM(P37:P37) -> 0 | Q36: =SUM(Q37:Q37) -> 0 | R36: =SUM(R37:R37) -> 166.97 | S36: =SUM(S37:S37) -> 0 | T36: =SUM(T37:T37) -> 0 | U36: =I36/4*3 -> 144.615 | V36: =O36/I36*100 -> 86.593714
B37: Организация непрерывного образования муниципальных служащих по направлениям от органов местного самоуправления | C37: =SUM(D37:H37) -> 50 | F37: 50 | I37: =SUM(J37:N37) -> 192.82 | L37: 192.82 | O37: =SUM(P37:T37) -> 166.97 | R37: 166.97
A38: 5 | B38: Муниципальная программа «Семейная политика в Горном улусе на 2020-2024 годы» | C38: =SUM(D38:H38) -> 428 | D38: 0 | E38: 0 | F38: =SUM(F39+F48+F50) -> 428 | G38: 0 | H38: 0 | I38: =SUM(J38:N38) -> 843.52 | J38: 0 | K38: 0 | L38: =SUM(L39+L48+L50) -> 843.52 | M38: 0 | N38: 0 | O38: =SUM(P38:T38) -> 813.52 | P38: 0 | Q38: 0 | R38: =SUM(R39+R48+R50) -> 813.52 | S38: 0 | T38: 0 | U38: =SUM(U39+U48+U50) -> 723.02 | V38: =O38/I38*100 -> 96.443475
B39: Популяризация семейных ценностей и реализация мероприятий в области семейной и демографической политики по улучшению положения семей, детей и женщин, повышению ответственного родительства | C39: =SUM(D39:H39) -> 392 | F39: =F40+F43 -> 392 | I39: =SUM(J39:N39) -> 780.52 | L39: =L40+L43 -> 780.52 | O39: =SUM(P39:T39) -> 750.52 | R39: =R40+R43 -> 750.52 | U39: =U40+U43 -> 660.02
B40: Планирование семьи | C40: =SUM(D40:H40) -> 210 | F40: =SUM(F41:F42) -> 210 | I40: =SUM(J40:N40) -> 465.02 | L40: =SUM(L41:L42) -> 465.02 | O40: =SUM(P40:T40) -> 465.02 | R40: =SUM(R41:R42) -> 465.02 | U40: =SUM(U41:U42) -> 405.02
B41: Оказание поддержки семей при рождении ребенка | C41: =SUM(D41:H41) -> 210 | F41: 210 | I41: =SUM(J41:N41) -> 315.02 | L41: =280+35.02 -> 315.02 | O41: =SUM(P41:T41) -> 315.02 | R41: =280+35.02 -> 315.02 | U41: 315.02
...

Sheet мб
A1: Информация
A2: об исполнении ведомственных целевых и муниципальных программ МР "Горный улус" по состоянию на 2021 г.
A4: N | B4: Наименование муниципальной программы (в разрезе мероприятий) | C4: Уточненный годовой план в соответствии с показателями сводной бюджетной росписи | D4: Исполнено за отчетный период | E4: % исполнения | F4: % исполнения | G4: остаток | H4: Примечание (указать причины неисполнения) | I4: Ответственный за составление формы
A5: 1 | B5: =свод!B5 -> Муниципальная программа «Обеспечение качественным жильем и повышение качества жилищно-коммунальных услуг в МР «Горный улус» на 2020-2024годы» | C5: =SUM(C6+C16+C18)+C22 -> 12171.863 | D5: =SUM(D6+D16+D18)+D22 -> 10460.591 | E5: =SUM(D5/C5*100) -> 85.940761 | F5: =D5/(C5/4*4)*100 -> 85.940761 | G5: =SUM(C5-D5) -> 1711.2713 | I5: УАиС (Дьяконов Н.В.) | J5: соф МО 2250,0 Молодая семья
B6: Градостроительное планирование развития территорий. Снижение административных барьеров в области строительства | C6: =C7+C15 -> 2225.995 | D6: =D7+D15 -> 1126.75 | E6: =SUM(D6/C6*100) -> 50.617814 | G6: =SUM(C6-D6) -> 1099.245
B7: Реализация градостроительной политики | C7: =SUM(C8:C14) -> 1625.995 | D7: =SUM(D8:D14) -> 1126.75 | E7: =SUM(D7/C7*100) -> 69.296031 | G7: =SUM(C7-D7) -> 499.245 | H7: Экономия 193,25тыс.рублей. Освоение в IV квартале 2021 г.
B8: Разработка проекта "Актуализация генерального плана МО "Маганинский наслег", правил землепользования и застройки, проекта планировки и межевания территориис с.Орто-Сурт, МО "Маганинский наслег", Горного улуса, Республики Саха (Якутия)" | C8: 498 | D8: 498 | E8: =SUM(D8/C8*100) -> 100 | G8: =SUM(C8-D8) -> 0 | H8: Исполнены работы по Контракту №32/21-ЭА от 25.05.2021г.
B9: Разработка проекта планировки и межевания территории с.Асыма, МО "Кировский наслег", Горного улуса, Республики Саха (Якутия) | C9: 200 | D9: 200 | E9: =SUM(D9/C9*100) -> 100 | G9: =SUM(C9-D9) -> 0 | H9: Исполнены работы по Контракту №34/21-ЭА от 26.05.2021г.
B10: Разработка проекта планировки и межевания территории с.Магарас, МО "Одунунский наслег", Горного улуса, Республики Саха (Якутия) | C10: 208.75 | D10: 208.75 | E10: =SUM(D10/C10*100) -> 100 | G10: =SUM(C10-D10) -> 0 | H10: Исполнены работы по Контракту № 33/21-ЭА от 26.05.2021г.
B11: Разработка проекта планировки и межевания территории с.Бясь-Кюель МО "Атамайский наслег" | C11: 120 | D11: 120 | E11: =SUM(D11/C11*100) -> 100 | G11: =SUM(C11-D11) -> 0 | H11: Договор №б/н от 22.11.2021 г. исполнен
B12: Разработка проекта планировки и проекта межевания территории (ППТ и ПМТ) объекта: «Централизованные сети канализации с. Бердигестях Горного улуса РС(Я)» | C12: 450 | D12: 0 | E12: =SUM(D12/C12*100) -> 0 | G12: =SUM(C12-D12) -> 450 | H12: Подписан контракт № 55/21-ЭА от 17.01.2022г. На сумму 198 т.р. Экономия составляет 252 т.р.
B13: Разработка проекта планировки и межевания территории ВОС с.Бердигестях | C13: 100 | D13: 100 | E13: =SUM(D13/C13*100) -> 100 | G13: =SUM(C13-D13) -> 0 | H13: Исполнены работы по договору №43/21 от 26.11.2021 г.
B14: Подготовка проекта генерального плана, правил землепользования и застройки, с.Тонгулах МО "Малтанинский наслег", генерального плана с.Харыялах МО "Одунунский наслег" Горного улуса, Республики Саха (Якутия)" | C14: 49.245 | D14: 0 | E14: =SUM(D14/C14*100) -> 0 | G14: =SUM(C14-D14) -> 49.245 | H14: Подписан договор №16/2021 от 22.01.2021
B15: =свод!B8 -> Развитие и освоение территорий | C15: =свод!L8 -> 600 | D15: 0 | E15: =SUM(D15/C15*100) -> 0 | G15: =SUM(C15-D15) -> 600 | H15: Заключен контракт с ИП Григорьев
B16: Обеспечение граждан доступным и комфортным жильем | C16: =SUM(C17:C17) -> 3682.66 | D16: =SUM(D17:D17) -> 3682.66 | E16: =SUM(D16/C16*100) -> 100 | G16: =SUM(C16-D16) -> 0
B17: Обеспечение жильем молодых семей | C17: =свод!L11+свод!M11 -> 3682.66 | D17: =свод!R11+свод!S11 -> 3682.66 | E17: =SUM(D17/C17*100) -> 100 | G17: =SUM(C17-D17) -> 0 | H17: Вручены 7 сертификатов на строительство ИЖД
B18: Модернизация объектов коммунальной инфраструктуры | C18: =SUM(C19:C21) -> 3435.99 | D18: =SUM(D19:D21) -> 3114.35 | E18: =SUM(D18/C18*100) -> 90.639088 | G18: =SUM(C18-D18) -> 321.64
B19: Развитие водоснабжения | C19: 1490.47 | D19: 1168.83 | E19: =SUM(D19/C19*100) -> 78.42023 | G19: =SUM(C19-D19) -> 321.64 | H19: Софинансирование ВОС по ПОФР (1%)
B20: Развитие водоснабжения Экспертное сопровождение ГАУ "Управление Госэкспертизы РС(Я) | C20: 1375.52 | D20: 1375.52
B21: Развитие теплоснабжения (Одунунский) | C21: =свод!L15 -> 570 | D21: =свод!R15 -> 570 | E21: =SUM(D21/C21*100) -> 100 | G21: =SUM(C21-D21) -> 0
B22: =свод!B16 -> Содействие развитию благоустройства территорий муниципальных образований | C22: =C23+C28+C29 -> 2827.2176 | D22: =D23+D28+D29 -> 2536.8313 | E22: =SUM(D22/C22*100) -> 89.728902 | G22: =SUM(C22-D22) -> 290.3863
B23: =свод!B17 -> Обустройство мест размещения отходов | C23: =SUM(C24:C27) -> 1530.2176 | D23: =SUM(D24:D27) -> 1239.8313 | E23: =SUM(D23/C23*100) -> 81.023202 | G23: =SUM(C23-D23) -> 290.3863
B24: перемещение отходов свалки | C24: =664.83497+40 -> 704.83497 | D24: =664.83497+40 -> 704.83497 | E24: =SUM(D24/C24*100) -> 100 | G24: =SUM(C24-D24) -> 0 | H24: Исполнены работы по перемещению отходов свалки ТКО. Исполнители ООО "СахаСпецТранс" - 303,98т.р., из них 40 т.р. на перевозку специализированного транспортного средства (бульдозер для свалки) Исполнены работы по перемещению отходов свалки ТКО ООО "Амгор" - 94,85т.р. Исполнены работы по перемещению отходов свалки ТКО. ООО "Сомого" - 250т.р. Исполнены работы по перемещению отходов свалки ТКО. ИП Павлов А.Х. - 56т.р.
B25: Ремонт автодороги свалки | C25: 451.11 | D25: 451.11 | E25: =SUM(D25/C25*100) -> 100 | G25: =SUM(C25-D25) -> 0 | H25: Исполнены работы по договору с ИП Павлов А.Х.
B26: Видеонаблюдение | C26: 215.72265 | D26: 36.32135 | E26: =SUM(D26/C26*100) -> 16.837059 | G26: =SUM(C26-D26) -> 179.4013 | H26: Подписан договор ИП Данилов А.Л. на установку видеонаблюдения, ПАО Якутскэнерго, подключение видеонаблюдения свалки ТКО
B27: Устройство охранной будки | C27: 158.55 | D27: 47.565 | E27: =SUM(D27/C27*100) -> 30 | G27: =SUM(C27-D27) -> 110.985 | H27: Подписан договор ООО "Сомого"
B28: =свод!B18 -> Снос здания д/с Умка | C28: =свод!L18 -> 347 | D28: =свод!R18 -> 347 | E28: =SUM(D28/C28*100) -> 100 | G28: =SUM(C28-D28) -> 0
B29: =свод!B19 -> Перевозка песка для парковочных стоянок | C29: =свод!L19 -> 950 | D29: =свод!R19 -> 950 | E29: =SUM(D29/C29*100) -> 100 | G29: =SUM(C29-D29) -> 0
A30: 2 | B30: =свод!B20 -> Муниципальная программа «Развитие дорожного хозяйства в МР «Горный улус» на 2020-2024 годы» | C30: =SUM(C31+C39)+C36 -> 18257.16 | D30: =SUM(D31+D39)+D36 -> 15925.44 | E30: =SUM(D30/C30*100) -> 87.228463 | F30: =D30/(C30/4*4)*100 -> 87.228463 | G30: =SUM(C30-D30) -> 2331.72 | I30: МКУ ДЕЗ (Протопопов А.В.)
B31: Содержание муниципальных автодорог | C31: =SUM(C32:C35) -> 4596.52 | D31: =SUM(D32:D35) -> 4596.52 | E31: =SUM(D31/C31*100) -> 100 | G31: =SUM(C31-D31) -> 0
B32: Содержание муниципальных автодорог | C32: 3904.19 | D32: 3904.19 | E32: =SUM(D32/C32*100) -> 100 | G32: =SUM(C32-D32) -> 0 | H32: Подписан контракт с подрядной организацией ООО "Амгор", стоимость контракта 3 744 400,00 руб. Дополнительно подписан договор с ООО "Амгор" на сумму 159 792,65 руб. Все работы завершены.
B33: Рубка и расчистка леса для видимости муниципальных автодорог | C33: 261.46 | D33: 261.46 | E33: =SUM(D33/C33*100) -> 100 | G33: =SUM(C33-D33) -> 0 | H33: Подписан контракт с ИП "Трофимов И.Ф." Работы завершены.
B34: Содержание на уборку моста "Заречный" с.Бердигестях | C34: 130.87 | D34: 130.87 | E34: =SUM(D34/C34*100) -> 100 | G34: =SUM(C34-D34) -> 0 | H34: Подписан договор ГПХ Сидоров Р.Н. Работы завершены.
B35: Ремонт подъездной дороги к парковкам объектов размещения к проведению XXI Спартакиады по национальным видам спорта «Игры Манчаары» | C35: 300 | D35: 300 | E35: =SUM(D35/C35*100) -> 100 | G35: =SUM(C35-D35) -> 0 | H35: Подписан контракт с подрядной организацией ИП "Павлов А.Х.", стоимость контракта 300 000,00 руб. Работы завершены.
B36: Инженерные сооружения муниципальных автомобильных дорог | C36: =SUM(C37:C38) -> 6396.97 | D36: =SUM(D37:D38) -> 6396.97 | E36: =SUM(D36/C36*100) -> 100 | G36: =SUM(G37:G38) -> 0
B37: Ремонт мостовых переходов и инженерных сооружений на муниципальных автодорогах | C37: 394.69 | D37: 394.69 | E37: =SUM(D37/C37*100) -> 100 | G37: =SUM(C37-D37) -> 0 | H37: Подписан договор с ИП "Трофимов И.Ф." Работы завершены.
B38: Софинансирование на строительство мостовых переходов муниципальных автодорог по итогам конкурса Минтранс РС(Я) | C38: 6002.28 | D38: 6002.28 | E38: =SUM(D38/C38*100) -> 100 | G38: =SUM(C38-D38) -> 0 | H38: Подписан контракт с подрядной организацией ООО "Туласын", стоимость контракта 22 806 607,93 руб. Работы завершены.
B39: Строительство, проектирование и ремонт муниципальных автомобильных дорог | C39: =SUM(C40:C41) -> 7263.67 | D39: =SUM(D40:D41) -> 4931.95 | E39: =SUM(D39/C39*100) -> 67.898872 | G39: =SUM(C39-D39) -> 2331.72
B40: Софинансирование на проектирование муниципальной автодорог "Орто-сурт - Кептин Горного улуса РС(Я)" с протяженностью 15 км. | C40: 2331.72 | D40: 0 | E40: 0 | G40: =SUM(C40-D40) -> 2331.72 | H40: Заключен контракт на разработку ПИР с ООО "Геопроект", ведутся проектные работы, срок завершения работ март 2021 года, начисляются пени за просроченные дни
B41: Ремонт муниципальных автодорог | C41: 4931.95 | D41: 4931.95 | E41: =SUM(D41/C41*100) -> 100 | G41: =SUM(C41-D41) -> 0 | H41: Подписан контракт с подрядной организацией ООО "Амгор", стоимость контракта 4 931 947,48 руб. Работы завершены.
...

Sheet инд
A1: Отчет о достигнутых значениях целевых показателей муниципальных программ МР "Горный улус" за 2021 год
B3: Наименование программы/подпрограммы/индикатора | C3: Единица измерения | D3: План | E3: Факт | F3: % | G3: Средний показатель МП
D5: 2021 г
C6: 2 | D6: 3 | E6: 4 | F6: 5 | G6: 6
A7: 1 | B7: =свод!B5 -> Муниципальная программа «Обеспечение качественным жильем и повышение качества жилищно-коммунальных услуг в МР «Горный улус» на 2020-2024годы» | G7: =AVERAGE(F9:F11,F15:F17,F20,F23,F25,F28,F31,F39,F42) -> 80.376678
B8: Цель-Обеспечение населения Горного улуса доступным благоустроенным жильем с безопасными и комфортными условиями среды проживания населения на основе самоокупаемости, эффективности и надежности функционирования инженерных систем
B9: Годовой объем ввода жилья, всего | C9: кв.м | D9: 10509 | E9: 10708 | F9: 100
B10: в т.ч. Многоквартирные дома | C10: кв.м | D10: 6509 | E10: =E9-E11 -> 5092 | F10: =SUM(E10/D10)*100 -> 78.230143
B11: ИЖС | C11: кв.м | D11: 4000 | E11: 5616 | F11: 100
B12: 1. Реализация градостроительной политики, развитие и освоение территорий
B13: 1.1. Реализация градостроительной политики
B14: Разработка (корректировка) и утверждение схемы территориального планирования МР «Горный улус» | C14: ед. | D14: 0 | E14: 0
B15: Разработка генеральных планов МО | C15: ед. | D15: 3 | E15: 1 | F15: =SUM(E15/D15)*100 -> 33.333333 | H15: Маганинский наслег
B16: Разработка правил землепользования и застройки МО | C16: ед. | D16: 2 | E16: 1 | F16: =SUM(E16/D16)*100 -> 50 | H16: Маганинский наслег
B17: Количество населенных пунктов, обеспеченных проектами планировки и межевания территории | C17: ед. | D17: 6 | E17: 5 | F17: =SUM(E17/D17)*100 -> 83.333333 | H17: Маганинский наслег с.Тонгулах СП, Кировский наслег, Одунунский наслег с.Харыялаах, Атамайский наслег, Бердигестях ВОС
B18: Актуализация нормативов градостроительного проектирования | C18: ед. | D18: 0 | E18: 0
B19: 1.2. Развитие и освоение территорий
B20: Удельный вес аварийного жилья к общему объему жилищного фонда | C20: % | D20: 4.5 | E20: 3.88 | F20: 100 | H20: 6489,4 (аварийная площадь)/167000 (общий жилищный фонд)*100=3,88
B21: 2. Обеспечение граждан доступным и комфортным жильем
B22: 2.1. Обеспечение жильем детей - сирот и детей оставшихся без попечения родителей
B23: Количество обеспеченных жилыми помещениями детей - сирот и детей оставшихся без попечения родителей | C23: чел. | D23: 2 | E23: 0 | F23: =SUM(E23/D23)*100 -> 0 | H23: Отсутствуют соответствующие жилые помещения детям-сиротам по нормам, установленным законодательством Российской Федерации | K23: 1
B24: 2.2. Обеспечение жильем молодых семей
B25: Количество молодых семеи, получивших свидетельство о праве на получение социальной выплаты на приобретение (строительство) жилого помещения | C25: ед. | D25: 7 | E25: 7 | F25: =SUM(E25/D25)*100 -> 100
B26: 3. Модернизация объектов коммунальной инфраструктуры
B27: 3.1. Развитие водоснабжения
B28: Разработка проектно - сметной документации объектов водоснабжения | C28: ед. | D28: 2 | E28: 2 | F28: 100 | H28: Разработаны 2 проекта водоочистных станций в с.Кептин и с.Кюерелях
B29: Строительство водоочистных станций (ВОС) | C29: ед. | D29: 0 | E29: 0
B30: 3.2. Развитие водоотведения
B31: Строительство канализационно - очистной станций (КОС) | C31: ед. | D31: 1 | E31: 1 | F31: =E31/D31*100 -> 100
B32: 3.3. Развитие теплоснабжения
B33: Разработка проектно - сметной документации объектов теплоснабжения и схемы теплоснабжения | C33: ед. | D33: 0 | E33: 0
B34: Строительство объектов теплоснабжения | C34: ед. | D34: 0 | E34: 0
B35: Протяженность сетей теплоснабжения | C35: м. | D35: 0 | E35: 1480
B36: Подключение частного сектора | C36: домовладений | D36: 0 | E36: 25
B37: 4. Развитие системы обращения с отходами производства и потребления
B38: 4.1. Обустройство мест размещения отходов
B39: Обустройство мест размещения отходов | C39: ед. | D39: 1 | E39: 1 | F39: =SUM(E39/D39)*100 -> 100
B40: Проектирование полигона твердых коммунальных отходов | C40: ед. | D40: 0 | E40: 0
B41: Рекультивация полигона твердых коммунальных отходов | C41: ед. | D41: 0 | E41: 0
B42: Устройство противопожарных минерализованных полос на территории полигонов твердых коммунальных отходов | C42: м. | D42: 800 | E42: 800 | F42: =SUM(E42/D42)*100 -> 100
...

Sheet оценка
A1: Оценка эффективности реализации ведомственных целевых и муниципальных программ МР "Горный улус" за 2021 год
W3: балл
B4: =свод!B5 -> Муниципальная программа «Обеспечение качественным жильем и повышение качества жилищно-коммунальных услуг в МР «Горный улус» на 2020-2024годы» | C4: =свод!B20 -> Муниципальная программа «Развитие дорожного хозяйства в МР «Горный улус» на 2020-2024 годы» | D4: =свод!B371 -> Муниципальная программа «Энергосбережение на территории МР "Горный улус" на 2020-2024 годы» | E4: =свод!B186 -> Муниципальная программа «Развитие сельскохозяйственного производства Горного улуса РС(Я) на 2021-2025 годы» | F4: =свод!B161 -> Муниципальная программа «Управление муниципальной собственностью МР "Горный улус" на 2020-2024 годы» | G4: =свод!B112 -> Муниципальная программа «Развитие предпринимательства и туризма в Горном улусе на 2020-2024 годы» | H4: =свод!B92 -> Ведомственная целевая программа «Развитие информационного общества в МР "Горный улус" на 2020-2024 годы» | I4: =свод!B36 -> Ведомственная целевая программа «Развитие кадрового потенциала муниципальных служащих и работников органов местного самоуправления МР "Горный улус" на 2020-2024годы» | J4: =свод!B24 -> Ведомственная целевая программа "Охрана труда в МР «Горный улус» на 2020-2024годы" | K4: =свод!B53 -> Муниципальная программа «Старшее поколение Горного улуса на 2020-2024 годы» | L4: =свод!B65 -> Муниципальная программа «Содействие развитию институтов гражданского общества, поддержка социально ориентированных некоммерческих организаций и территориальных общественных самоуправлений в Горном улусе на 2021-2025 годы» | M4: =свод!B75 -> Муниципальная программа «Обеспечение безбарьерной среды жизнедеятельности инвалидов в Горном улусе на 2020 - 2024 годы» | N4: =свод!B38 -> Муниципальная программа «Семейная политика в Горном улусе на 2020-2024 годы» | O4: =свод!B80 -> Муниципальная программа «Профилактика правонарушений в Горном улусе на 2020-2024 годы» | P4: =свод!B138 -> Муниципальная программа «Молодежная политика Горного улуса на 2020 - 2024 годы» | Q4: =свод!B122 -> Муниципальная программа «Развитие физической культуры и спорта в МР «Горный улус» на 2018-2024 годы» | R4: =свод!B334 -> Муниципальная программа «Создание условий для духовно-культурного развития граждан Горного улуса на 2020 - 2024 годы» | S4: =свод!B237 -> Муниципальная программа «Развитие образования муниципального района «Горный улус» на 2020-2024 годы» | T4: =свод!B157 -> Муниципальная программа «Охрана окружающей среды в Горном улусе на 2017-2024 годы» | U4: =свод!B175 -> Ведомственная целевая программа «Повышение эффективности управления муниципальными финансами муниципального района «Горный улус» на 2020-2024 годы» | V4: =свод!B180 -> Муниципальная программа «Газификация населенных пунктов муниципального района «Горный улус» на 2019-2023 годы» | W4: =свод!B366 -> Муниципальная программа «Комплексное развитие сельских территорий в Горном улусе на 2020-2025 годы»
A5: => эффективную - при 80 <= Экол.<= 100; | B5: 89 | C5: 100 | E5: 89 | F5: 92.5 | H5: 88 | K5: 88 | L5: 88 | M5: 100 | O5: 88 | P5: 88 | Q5: 88 | R5: 88 | S5: 89 | W5: 81.5 | X5: =SUM(B5:W5) -> 1257
A6: => умеренно эффективную - при 60 <= Экол.<= 80; | G6: 77 | I6: 77 | J6: 77 | N6: 77 | T6: 77 | U6: 76.5 | V6: 73 | X6: =SUM(B6:W6) -> 534.5
A7: => недостаточно эффективную - при 40 <= Экол.<= 60; | D7: 50.7 | X7: =SUM(B7:W7) -> 50.7
A8: => неэффективную - при Экол.< 40.
X9: =SUM(X5:X8)/22 -> 83.736364
A11: Начальник УЭР Филиппова С.П.
A12: Исп.: гл.специалист УЭР Данилова Л.И.

Sheet ОКЖ
A1: Учетный регистр
A2: для количественной оценки
A3: эффективности реализации программы
A4: =[1]свод!B5 -> Муниципальная программа «Обеспечение качественным жильем и повышение качества жилищно-коммунальных услуг в МР «Горный улус» на 2020-2024годы»
A5: на 2021 год
A7: № п/п | B7: Критерий (К) | C7: Весовой коэффициент критерия(Gi) | D7: Количественная оценка параметра (W) | E7: Расчет оценочного показателя по каждому критерию (Gi * Wi),ед. (балл)
A10: 1 | B10: 2 | C10: 3 | D10: 4 | E10: 5
A11: 1 | B11: Индекс результативности <*> (рассчитывается заказчиком программы на основании разработанной методики оценки эффективности реализации программы, утвержденной до начала ее реализации) | C11: 0.55 | D11: 80 | E11: =SUM(C11*D11) -> 44
A12: 2 | B12: Уровень фактического финансирования программы с утвержденным планом в бюджете с уточненным | C12: 0.01 | D12: 100 | E12: =SUM(C12*D12) -> 1
A13: 3 | B13: Уровень фактического финансирования программы в соответствии с кассовым планом | C13: 0.15 | D13: 100 | E13: =SUM(C13*D13) -> 15
A14: 4 | B14: Доля полученных средств на мероприятия программы из прочих (за исключением средств бюджета МО) источников | C14: 0.15 | D14: 100 | E14: =SUM(C14*D14) -> 15
A15: 5 | B15: Выполнение плановых сроков предоставления отчетов реализации программы | C15: 0.14 | D15: 100 | E15: =SUM(C15*D15) -> 14
B16: Количественная интегральная оценка эффективности программы (Экол.) | E16: =SUM(E11:E15) -> 89

Sheet дорож
A1: Учетный регистр
A2: для количественной оценки
A3: эффективности реализации программы
A4: =[1]оценка!C4 -> Муниципальная программа «Развитие дорожного хозяйства в МР «Горный улус» на 2020-2024 годы»
A5: на 2021 год
A7: № п/п | B7: Критерий (К) | C7: Весовой коэффициент критерия(Gi) | D7: Количественная оценка параметра (W) | E7: Расчет оценочного показателя по каждому критерию (Gi * Wi),ед. (балл)
A10: 1 | B10: 2 | C10: 3 | D10: 4 | E10: 5
A11: 1 | B11: Индекс результативности <*> (рассчитывается заказчиком программы на основании разработанной методики оценки эффективности реализации программы, утвержденной до начала ее реализации) | C11: 0.55 | D11: 100 | E11: =SUM(C11*D11) -> 55
A12: 2 | B12: Уровень фактического финансирования программы с утвержденным планом в бюджете с уточненным | C12: 0.01 | D12: 100 | E12: =SUM(C12*D12) -> 1
A13: 3 | B13: Уровень фактического финансирования программы в соответствии с кассовым планом | C13: 0.15 | D13: 100 | E13: =SUM(C13*D13) -> 15
A14: 4 | B14: Доля полученных средств на мероприятия программы из прочих (за исключением средств бюджета МО) источников | C14: 0.15 | D14: 100 | E14: =SUM(C14*D14) -> 15
A15: 5 | B15: Выполнение плановых сроков предоставления отчетов реализации программы | C15: 0.14 | D15: 100 | E15: =SUM(C15*D15) -> 14
B16: Количественная интегральная оценка эффективности программы (Экол.) | E16: =SUM(E11:E15) -> 100

Sheet энергосбер
A1: Учетный регистр
A2: для количественной оценки
A3: эффективности реализации программы
A4: =[1]оценка!D4 -> Муниципальная программа «Энергосбережение на территории МР "Горный улус" на 2020-2024 годы»
A5: на 2021 год
A7: № п/п | B7: Критерий (К) | C7: Весовой коэффициент критерия(Gi) | D7: Количественная оценка параметра (W) | E7: Расчет оценочного показателя по каждому критерию (Gi * Wi),ед. (балл)
A10: 1 | B10: 2 | C10: 3 | D10: 4 | E10: 5
A11: 1 | B11: Индекс результативности <*> (рассчитывается заказчиком программы на основании разработанной методики оценки эффективности реализации программы, утвержденной до начала ее реализации) | C11: 0.55 | D11: 66.7 | E11: =SUM(C11*D11) -> 36.685
A12: 2 | B12: Уровень фактического финансирования программы с утвержденным планом в бюджете с уточненным | C12: 0.01 | D12: 0 | E12: =SUM(C12*D12) -> 0
A13: 3 | B13: Уровень фактического финансирования программы в соответствии с кассовым планом | C13: 0.15 | D13: 0 | E13: =SUM(C13*D13) -> 0
A14: 4 | B14: Доля полученных средств на мероприятия программы из прочих (за исключением средств бюджета МО) источников | C14: 0.15 | D14: 0 | E14: =SUM(C14*D14) -> 0
A15: 5 | B15: Выполнение плановых сроков предоставления отчетов реализации программы | C15: 0.14 | D15: 100 | E15: =SUM(C15*D15) -> 14
B16: Количественная интегральная оценка эффективности программы (Экол.) | E16: =SUM(E11:E15) -> 50.685

Sheet сх
A1: Учетный регистр
A2: для количественной оценки
A3: эффективности реализации программы
A4: =[1]оценка!E4 -> Муниципальная программа «Развитие сельскохозяйственного производства Горного улуса РС(Я) на 2021-2025 годы»
A5: на 2021 год
A7: № п/п | B7: Критерий (К) | C7: Весовой коэффициент критерия(Gi) | D7: Количественная оценка параметра (W) | E7: Расчет оценочного показателя по каждому критерию (Gi * Wi),ед. (балл)
A10: 1 | B10: 2 | C10: 3 | D10: 4 | E10: 5
A11: 1 | B11: Индекс результативности <*> (рассчитывается заказчиком программы на основании разработанной методики оценки эффективности реализации программы, утвержденной до начала ее реализации) | C11: 0.55 | D11: 80 | E11: =SUM(C11*D11) -> 44
A12: 2 | B12: Уровень фактического финансирования программы с утвержденным планом в бюджете с уточненным | C12: 0.01 | D12: 100 | E12: =SUM(C12*D12) -> 1
A13: 3 | B13: Уровень фактического финансирования программы в соответствии с кассовым планом | C13: 0.15 | D13: 100 | E13: =SUM(C13*D13) -> 15
A14: 4 | B14: Доля полученных средств на мероприятия программы из прочих (за исключением средств бюджета МО) источников | C14: 0.15 | D14: 100 | E14: =SUM(C14*D14) -> 15
A15: 5 | B15: Выполнение плановых сроков предоставления отчетов реализации программы | C15: 0.14 | D15: 100 | E15: =SUM(C15*D15) -> 14
B16: Количественная интегральная оценка эффективности программы (Экол.) | E16: =SUM(E11:E15) -> 89

Sheet уизо
A1: Учетный регистр
A2: для количественной оценки
A3: эффективности реализации программы
A4: =[1]оценка!F4 -> Муниципальная программа «Управление муниципальной собственностью МР "Горный улус" на 2020-2024 годы»
A5: на 2021 год
A7: № п/п | B7: Критерий (К) | C7: Весовой коэффициент критерия(Gi) | D7: Количественная оценка параметра (W) | E7: Расчет оценочного показателя по каждому критерию (Gi * Wi),ед. (балл)
A10: 1 | B10: 2 | C10: 3 | D10: 4 | E10: 5
A11: 1 | B11: Индекс результативности <*> (рассчитывается заказчиком программы на основании разработанной методики оценки эффективности реализации программы, утвержденной до начала ее реализации) | C11: 0.55 | D11: 100 | E11: =SUM(C11*D11) -> 55
A12: 2 | B12: Уровень фактического финансирования программы с утвержденным планом в бюджете с уточненным | C12: 0.01 | D12: 100 | E12: =SUM(C12*D12) -> 1
A13: 3 | B13: Уровень фактического финансирования программы в соответствии с кассовым планом | C13: 0.15 | D13: 100 | E13: =SUM(C13*D13) -> 15
A14: 4 | B14: Доля полученных средств на мероприятия программы из прочих (за исключением средств бюджета МО) источников | C14: 0.15 | D14: 50 | E14: =SUM(C14*D14) -> 7.5
A15: 5 | B15: Выполнение плановых сроков предоставления отчетов реализации программы | C15: 0.14 | D15: 100 | E15: =SUM(C15*D15) -> 14
B16: Количественная интегральная оценка эффективности программы (Экол.) | E16: =SUM(E11:E15) -> 92.5

Sheet предпр
A1: Учетный регистр
A2: для количественной оценки
A3: эффективности реализации программы
A4: =[1]оценка!G4 -> Муниципальная программа «Развитие предпринимательства и туризма в Горном улусе на 2020-2024 годы»
A5: на 2021 год
A7: № п/п | B7: Критерий (К) | C7: Весовой коэффициент критерия(Gi) | D7: Количественная оценка параметра (W) | E7: Расчет оценочного показателя по каждому критерию (Gi * Wi),ед. (балл)
A10: 1 | B10: 2 | C10: 3 | D10: 4 | E10: 5
A11: 1 | B11: Индекс результативности <*> (рассчитывается заказчиком программы на основании разработанной методики оценки эффективности реализации программы, утвержденной до начала ее реализации) | C11: 0.55 | D11: 80 | E11: =SUM(C11*D11) -> 44
A12: 2 | B12: Уровень фактического финансирования программы с утвержденным планом в бюджете с уточненным | C12: 0.01 | D12: 100 | E12: =SUM(C12*D12) -> 1
A13: 3 | B13: Уровень фактического финансирования программы в соответствии с кассовым планом | C13: 0.15 | D13: 100 | E13: =SUM(C13*D13) -> 15
A14: 4 | B14: Доля полученных средств на мероприятия программы из прочих (за исключением средств бюджета МО) источников | C14: 0.15 | D14: 20 | E14: =SUM(C14*D14) -> 3
A15: 5 | B15: Выполнение плановых сроков предоставления отчетов реализации программы | C15: 0.14 | D15: 100 | E15: =SUM(C15*D15) -> 14
B16: Количественная интегральная оценка эффективности программы (Экол.) | E16: =SUM(E11:E15) -> 77

Sheet инф
A1: Учетный регистр
A2: для количественной оценки
A3: эффективности реализации программы
A4: =[1]оценка!H4 -> Ведомственная целевая программа «Развитие информационного общества в МР "Горный улус" на 2020-2024 годы»
A5: на 2021 год
A7: № п/п | B7: Критерий (К) | C7: Весовой коэффициент критерия(Gi) | D7: Количественная оценка параметра (W) | E7: Расчет оценочного показателя по каждому критерию (Gi * Wi),ед. (балл)
A10: 1 | B10: 2 | C10: 3 | D10: 4 | E10: 5
A11: 1 | B11: Индекс результативности <*> (рассчитывается заказчиком программы на основании разработанной методики оценки эффективности реализации программы, утвержденной до начала ее реализации) | C11: 0.55 | D11: 100 | E11: =SUM(C11*D11) -> 55
A12: 2 | B12: Уровень фактического финансирования программы с утвержденным планом в бюджете с уточненным | C12: 0.01 | D12: 100 | E12: =SUM(C12*D12) -> 1
A13: 3 | B13: Уровень фактического финансирования программы в соответствии с кассовым планом | C13: 0.15 | D13: 100 | E13: =SUM(C13*D13) -> 15
A14: 4 | B14: Доля полученных средств на мероприятия программы из прочих (за исключением средств бюджета МО) источников | C14: 0.15 | D14: 20 | E14: =SUM(C14*D14) -> 3
A15: 5 | B15: Выполнение плановых сроков предоставления отчетов реализации программы | C15: 0.14 | D15: 100 | E15: =SUM(C15*D15) -> 14
B16: Количественная интегральная оценка эффективности программы (Экол.) | E16: =SUM(E11:E15) -> 88

Sheet кадр
A1: Учетный регистр
A2: для количественной оценки
A3: эффективности реализации программы
A4: =[1]оценка!I4 -> Ведомственная целевая программа «Развитие кадрового потенциала муниципальных служащих и работников органов местного самоуправления МР "Горный улус" на 2020-2024годы»
A5: на 2021год
A7: № п/п | B7: Критерий (К) | C7: Весовой коэффициент критерия(Gi) | D7: Количественная оценка параметра (W) | E7: Расчет оценочного показателя по каждому критерию (Gi * Wi),ед. (балл)
A10: 1 | B10: 2 | C10: 3 | D10: 4 | E10: 5
A11: 1 | B11: Индекс результативности <*> (рассчитывается заказчиком программы на основании разработанной методики оценки эффективности реализации программы, утвержденной до начала ее реализации) | C11: 0.55 | D11: 80 | E11: =SUM(C11*D11) -> 44
A12: 2 | B12: Уровень фактического финансирования программы с утвержденным планом в бюджете с уточненным | C12: 0.01 | D12: 100 | E12: =SUM(C12*D12) -> 1
A13: 3 | B13: Уровень фактического финансирования программы в соответствии с кассовым планом | C13: 0.15 | D13: 100 | E13: =SUM(C13*D13) -> 15
A14: 4 | B14: Доля полученных средств на мероприятия программы из прочих (за исключением средств бюджета МО) источников | C14: 0.15 | D14: 20 | E14: =SUM(C14*D14) -> 3
A15: 5 | B15: Выполнение плановых сроков предоставления отчетов реализации программы | C15: 0.14 | D15: 100 | E15: =SUM(C15*D15) -> 14
B16: Количественная интегральная оценка эффективности программы (Экол.) | E16: =SUM(E11:E15) -> 77

Sheet охр тр
A1: Учетный регистр
A2: для количественной оценки
A3: эффективности реализации программы
A4: =[1]оценка!J4 -> Ведомственная целевая программа "Охрана труда в МР «Горный улус» на 2020-2024годы"
A5: на 2021 год
A7: № п/п | B7: Критерий (К) | C7: Весовой коэффициент критерия(Gi) | D7: Количественная оценка параметра (W) | E7: Расчет оценочного показателя по каждому критерию (Gi * Wi),ед. (балл)
A10: 1 | B10: 2 | C10: 3 | D10: 4 | E10: 5
A11: 1 | B11: Индекс результативности <*> (рассчитывается заказчиком программы на основании разработанной методики оценки эффективности реализации программы, утвержденной до начала ее реализации) | C11: 0.55 | D11: 80 | E11: =SUM(C11*D11) -> 44
A12: 2 | B12: Уровень фактического финансирования программы с утвержденным планом в бюджете с уточненным | C12: 0.01 | D12: 100 | E12: =SUM(C12*D12) -> 1
A13: 3 | B13: Уровень фактического финансирования программы в соответствии с кассовым планом | C13: 0.15 | D13: 100 | E13: =SUM(C13*D13) -> 15
A14: 4 | B14: Доля полученных средств на мероприятия программы из прочих (за исключением средств бюджета МО) источников | C14: 0.15 | D14: 20 | E14: =SUM(C14*D14) -> 3
A15: 5 | B15: Выполнение плановых сроков предоставления отчетов реализации программы | C15: 0.14 | D15: 100 | E15: =SUM(C15*D15) -> 14
B16: Количественная интегральная оценка эффективности программы (Экол.) | E16: =SUM(E11:E15) -> 77

Sheet старшее
A1: Учетный регистр
A2: для количественной оценки
A3: эффективности реализации программы
A4: =[1]оценка!K4 -> Муниципальная программа «Старшее поколение Горного улуса на 2020-2024 годы»
A5: на 2021 год
A7: № п/п | B7: Критерий (К) | C7: Весовой коэффициент критерия(Gi) | D7: Количественная оценка параметра (W) | E7: Расчет оценочного показателя по каждому критерию (Gi * Wi),ед. (балл)
A10: 1 | B10: 2 | C10: 3 | D10: 4 | E10: 5
A11: 1 | B11: Индекс результативности <*> (рассчитывается заказчиком программы на основании разработанной методики оценки эффективности реализации программы, утвержденной до начала ее реализации) | C11: 0.55 | D11: 100 | E11: =SUM(C11*D11) -> 55
A12: 2 | B12: Уровень фактического финансирования программы с утвержденным планом в бюджете с уточненным | C12: 0.01 | D12: 100 | E12: =SUM(C12*D12) -> 1
A13: 3 | B13: Уровень фактического финансирования программы в соответствии с кассовым планом | C13: 0.15 | D13: 100 | E13: =SUM(C13*D13) -> 15
A14: 4 | B14: Доля полученных средств на мероприятия программы из прочих (за исключением средств бюджета МО) источников | C14: 0.15 | D14: 20 | E14: =SUM(C14*D14) -> 3
A15: 5 | B15: Выполнение плановых сроков предоставления отчетов реализации программы | C15: 0.14 | D15: 100 | E15: =SUM(C15*D15) -> 14
B16: Количественная интегральная оценка эффективности программы (Экол.) | E16: =SUM(E11:E15) -> 88

Sheet ПКР
A1: Учетный регистр
A2: для количественной оценки
A3: эффективности реализации программы
A4: =[1]оценка!L4 -> Муниципальная программа «Содействие развитию институтов гражданского общества, поддержка социально ориентированных некоммерческих организаций и территориальных общественных самоуправлений в Горном улусе на 2021-2025 годы»
A5: на 2021 год
A7: № п/п | B7: Критерий (К) | C7: Весовой коэффициент критерия(Gi) | D7: Количественная оценка параметра (W) | E7: Расчет оценочного показателя по каждому критерию (Gi * Wi),ед. (балл)
A10: 1 | B10: 2 | C10: 3 | D10: 4 | E10: 5
A11: 1 | B11: Индекс результативности <*> (рассчитывается заказчиком программы на основании разработанной методики оценки эффективности реализации программы, утвержденной до начала ее реализации) | C11: 0.55 | D11: 100 | E11: =SUM(C11*D11) -> 55
A12: 2 | B12: Уровень фактического финансирования программы с утвержденным планом в бюджете с уточненным | C12: 0.01 | D12: 100 | E12: =SUM(C12*D12) -> 1
A13: 3 | B13: Уровень фактического финансирования программы в соответствии с кассовым планом | C13: 0.15 | D13: 100 | E13: =SUM(C13*D13) -> 15
A14: 4 | B14: Доля полученных средств на мероприятия программы из прочих (за исключением средств бюджета МО) источников | C14: 0.15 | D14: 20 | E14: =SUM(C14*D14) -> 3
A15: 5 | B15: Выполнение плановых сроков предоставления отчетов реализации программы | C15: 0.14 | D15: 100 | E15: =SUM(C15*D15) -> 14
B16: Количественная интегральная оценка эффективности программы (Экол.) | E16: =SUM(E11:E15) -> 88

Sheet безбарь
A1: Учетный регистр
A2: для количественной оценки
A3: эффективности реализации программы
A4: =[1]оценка!M4 -> Муниципальная программа «Обеспечение безбарьерной среды жизнедеятельности инвалидов в Горном улусе на 2020 - 2024 годы»
A5: на 2021 год
A7: № п/п | B7: Критерий (К) | C7: Весовой коэффициент критерия(Gi) | D7: Количественная оценка параметра (W) | E7: Расчет оценочного показателя по каждому критерию (Gi * Wi),ед. (балл)
A10: 1 | B10: 2 | C10: 3 | D10: 4 | E10: 5
A11: 1 | B11: Индекс результативности <*> (рассчитывается заказчиком программы на основании разработанной методики оценки эффективности реализации программы, утвержденной до начала ее реализации) | C11: 0.55 | D11: 100 | E11: =SUM(C11*D11) -> 55
A12: 2 | B12: Уровень фактического финансирования программы с утвержденным планом в бюджете с уточненным | C12: 0.01 | D12: 100 | E12: =SUM(C12*D12) -> 1
A13: 3 | B13: Уровень фактического финансирования программы в соответствии с кассовым планом | C13: 0.15 | D13: 100 | E13: =SUM(C13*D13) -> 15
A14: 4 | B14: Доля полученных средств на мероприятия программы из прочих (за исключением средств бюджета МО) источников | C14: 0.15 | D14: 100 | E14: =SUM(C14*D14) -> 15
A15: 5 | B15: Выполнение плановых сроков предоставления отчетов реализации программы | C15: 0.14 | D15: 100 | E15: =SUM(C15*D15) -> 14
B16: Количественная интегральная оценка эффективности программы (Экол.) | E16: =SUM(E11:E15) -> 100

Sheet семейн
A1: Учетный регистр
A2: для количественной оценки
A3: эффективности реализации программы
A4: =[1]оценка!N4 -> Муниципальная программа «Семейная политика в Горном улусе на 2020-2024 годы»
A5: на 2021 год
A7: № п/п | B7: Критерий (К) | C7: Весовой коэффициент критерия(Gi) | D7: Количественная оценка параметра (W) | E7: Расчет оценочного показателя по каждому критерию (Gi * Wi),ед. (балл)
A10: 1 | B10: 2 | C10: 3 | D10: 4 | E10: 5
A11: 1 | B11: Индекс результативности <*> (рассчитывается заказчиком программы на основании разработанной методики оценки эффективности реализации программы, утвержденной до начала ее реализации) | C11: 0.55 | D11: 80 | E11: =SUM(C11*D11) -> 44
A12: 2 | B12: Уровень фактического финансирования программы с утвержденным планом в бюджете с уточненным | C12: 0.01 | D12: 100 | E12: =SUM(C12*D12) -> 1
A13: 3 | B13: Уровень фактического финансирования программы в соответствии с кассовым планом | C13: 0.15 | D13: 100 | E13: =SUM(C13*D13) -> 15
A14: 4 | B14: Доля полученных средств на мероприятия программы из прочих (за исключением средств бюджета МО) источников | C14: 0.15 | D14: 20 | E14: =SUM(C14*D14) -> 3
A15: 5 | B15: Выполнение плановых сроков предоставления отчетов реализации программы | C15: 0.14 | D15: 100 | E15: =SUM(C15*D15) -> 14
B16: Количественная интегральная оценка эффективности программы (Экол.) | E16: =SUM(E11:E15) -> 77

Sheet правонаруш
A1: Учетный регистр
A2: для количественной оценки
A3: эффективности реализации программы
A4: =[1]оценка!O4 -> Муниципальная программа «Профилактика правонарушений в Горном улусе на 2020-2024 годы»
A5: на 2021 год
A7: № п/п | B7: Критерий (К) | C7: Весовой коэффициент критерия(Gi) | D7: Количественная оценка параметра (W) | E7: Расчет оценочного показателя по каждому критерию (Gi * Wi),ед. (балл)
A10: 1 | B10: 2 | C10: 3 | D10: 4 | E10: 5
A11: 1 | B11: Индекс результативности <*> (рассчитывается заказчиком программы на основании разработанной методики оценки эффективности реализации программы, утвержденной до начала ее реализации) | C11: 0.55 | D11: 100 | E11: =SUM(C11*D11) -> 55
A12: 2 | B12: Уровень фактического финансирования программы с утвержденным планом в бюджете с уточненным | C12: 0.01 | D12: 100 | E12: =SUM(C12*D12) -> 1
A13: 3 | B13: Уровень фактического финансирования программы в соответствии с кассовым планом | C13: 0.15 | D13: 100 | E13: =SUM(C13*D13) -> 15
A14: 4 | B14: Доля полученных средств на мероприятия программы из прочих (за исключением средств бюджета МО) источников | C14: 0.15 | D14: 20 | E14: =SUM(C14*D14) -> 3
A15: 5 | B15: Выполнение плановых сроков предоставления отчетов реализации программы | C15: 0.14 | D15: 100 | E15: =SUM(C15*D15) -> 14
B16: Количественная интегральная оценка эффективности программы (Экол.) | E16: =SUM(E11:E15) -> 88

Sheet молодежь
A1: Учетный регистр
A2: для количественной оценки
A3: эффективности реализации программы
A4: =[1]оценка!P4 -> Муниципальная программа «Молодежная политика Горного улуса на 2020 - 2024 годы»
A5: на 2021 год
A7: № п/п | B7: Критерий (К) | C7: Весовой коэффициент критерия(Gi) | D7: Количественная оценка параметра (W) | E7: Расчет оценочного показателя по каждому критерию (Gi * Wi),ед. (балл)
A10: 1 | B10: 2 | C10: 3 | D10: 4 | E10: 5
A11: 1 | B11: Индекс результативности <*> (рассчитывается заказчиком программы на основании разработанной методики оценки эффективности реализации программы, утвержденной до начала ее реализации) | C11: 0.55 | D11: 100 | E11: =SUM(C11*D11) -> 55
A12: 2 | B12: Уровень фактического финансирования программы с утвержденным планом в бюджете с уточненным | C12: 0.01 | D12: 100 | E12: =SUM(C12*D12) -> 1
A13: 3 | B13: Уровень фактического финансирования программы в соответствии с кассовым планом | C13: 0.15 | D13: 100 | E13: =SUM(C13*D13) -> 15
A14: 4 | B14: Доля полученных средств на мероприятия программы из прочих (за исключением средств бюджета МО) источников | C14: 0.15 | D14: 20 | E14: =SUM(C14*D14) -> 3
A15: 5 | B15: Выполнение плановых сроков предоставления отчетов реализации программы | C15: 0.14 | D15: 100 | E15: =SUM(C15*D15) -> 14
B16: Количественная интегральная оценка эффективности программы (Экол.) | E16: =SUM(E11:E15) -> 88

Sheet спорт
A1: Учетный регистр
A2: для количественной оценки
A3: эффективности реализации программы
A4: =[1]оценка!Q4 -> Муниципальная программа «Развитие физической культуры и спорта в МР «Горный улус» на 2018-2024 годы»
A5: на 2021 год
A7: № п/п | B7: Критерий (К) | C7: Весовой коэффициент критерия(Gi) | D7: Количественная оценка параметра (W) | E7: Расчет оценочного показателя по каждому критерию (Gi * Wi),ед. (балл)
A10: 1 | B10: 2 | C10: 3 | D10: 4 | E10: 5
A11: 1 | B11: Индекс результативности <*> (рассчитывается заказчиком программы на основании разработанной методики оценки эффективности реализации программы, утвержденной до начала ее реализации) | C11: 0.55 | D11: 100 | E11: =SUM(C11*D11) -> 55
A12: 2 | B12: Уровень фактического финансирования программы с утвержденным планом в бюджете с уточненным | C12: 0.01 | D12: 100 | E12: =SUM(C12*D12) -> 1
A13: 3 | B13: Уровень фактического финансирования программы в соответствии с кассовым планом | C13: 0.15 | D13: 100 | E13: =SUM(C13*D13) -> 15
A14: 4 | B14: Доля полученных средств на мероприятия программы из прочих (за исключением средств бюджета МО) источников | C14: 0.15 | D14: 20 | E14: =SUM(C14*D14) -> 3
A15: 5 | B15: Выполнение плановых сроков предоставления отчетов реализации программы | C15: 0.14 | D15: 100 | E15: =SUM(C15*D15) -> 14
B16: Количественная интегральная оценка эффективности программы (Экол.) | E16: =SUM(E11:E15) -> 88

Sheet образ
A1: Учетный регистр
A2: для количественной оценки
A3: эффективности реализации программы
A4: =[1]оценка!S4 -> Муниципальная программа «Развитие образования муниципального района «Горный улус» на 2020-2024 годы»
A5: на 2021 год
A7: № п/п | B7: Критерий (К) | C7: Весовой коэффициент критерия(Gi) | D7: Количественная оценка параметра (W) | E7: Расчет оценочного показателя по каждому критерию (Gi * Wi),ед. (балл)
A10: 1 | B10: 2 | C10: 3 | D10: 4 | E10: 5
A11: 1 | B11: Индекс результативности <*> (рассчитывается заказчиком программы на основании разработанной методики оценки эффективности реализации программы, утвержденной до начала ее реализации) | C11: 0.55 | D11: 80 | E11: =SUM(C11*D11) -> 44
A12: 2 | B12: Уровень фактического финансирования программы с утвержденным планом в бюджете с уточненным | C12: 0.01 | D12: 100 | E12: =SUM(C12*D12) -> 1
A13: 3 | B13: Уровень фактического финансирования программы в соответствии с кассовым планом | C13: 0.15 | D13: 100 | E13: =SUM(C13*D13) -> 15
A14: 4 | B14: Доля полученных средств на мероприятия программы из прочих (за исключением средств бюджета МО) источников | C14: 0.15 | D14: 100 | E14: =SUM(C14*D14) -> 15
A15: 5 | B15: Выполнение плановых сроков предоставления отчетов реализации программы | C15: 0.14 | D15: 100 | E15: =SUM(C15*D15) -> 14
B16: Количественная интегральная оценка эффективности программы (Экол.) | E16: =SUM(E11:E15) -> 89

Sheet УК
A1: Учетный регистр
A2: для количественной оценки
A3: эффективности реализации программы
A4: =[1]оценка!R4 -> Муниципальная программа «Создание условий для духовно-культурного развития граждан Горного улуса на 2020 - 2024 годы»
A5: на 2021 год
A7: № п/п | B7: Критерий (К) | C7: Весовой коэффициент критерия(Gi) | D7: Количественная оценка параметра (W) | E7: Расчет оценочного показателя по каждому критерию (Gi * Wi),ед. (балл)
A10: 1 | B10: 2 | C10: 3 | D10: 4 | E10: 5
A11: 1 | B11: Индекс результативности <*> (рассчитывается заказчиком программы на основании разработанной методики оценки эффективности реализации программы, утвержденной до начала ее реализации) | C11: 0.55 | D11: 100 | E11: =SUM(C11*D11) -> 55
A12: 2 | B12: Уровень фактического финансирования программы с утвержденным планом в бюджете с уточненным | C12: 0.01 | D12: 100 | E12: =SUM(C12*D12) -> 1
A13: 3 | B13: Уровень фактического финансирования программы в соответствии с кассовым планом | C13: 0.15 | D13: 100 | E13: =SUM(C13*D13) -> 15
A14: 4 | B14: Доля полученных средств на мероприятия программы из прочих (за исключением средств бюджета МО) источников | C14: 0.15 | D14: 20 | E14: =SUM(C14*D14) -> 3
A15: 5 | B15: Выполнение плановых сроков предоставления отчетов реализации программы | C15: 0.14 | D15: 100 | E15: =SUM(C15*D15) -> 14
B16: Количественная интегральная оценка эффективности программы (Экол.) | E16: =SUM(E11:E15) -> 88

Sheet окр ср
A1: Учетный регистр
A2: для количественной оценки
A3: эффективности реализации программы
A4: =[1]оценка!T4 -> Муниципальная программа «Охрана окружающей среды в Горном улусе на 2017-2024 годы»
A5: на 2021 год
A7: № п/п | B7: Критерий (К) | C7: Весовой коэффициент критерия(Gi) | D7: Количественная оценка параметра (W) | E7: Расчет оценочного показателя по каждому критерию (Gi * Wi),ед. (балл)
A10: 1 | B10: 2 | C10: 3 | D10: 4 | E10: 5
A11: 1 | B11: Индекс результативности <*> (рассчитывается заказчиком программы на основании разработанной методики оценки эффективности реализации программы, утвержденной до начала ее реализации) | C11: 0.55 | D11: 80 | E11: =SUM(C11*D11) -> 44
A12: 2 | B12: Уровень фактического финансирования программы с утвержденным планом в бюджете с уточненным | C12: 0.01 | D12: 100 | E12: =SUM(C12*D12) -> 1
A13: 3 | B13: Уровень фактического финансирования программы в соответствии с кассовым планом | C13: 0.15 | D13: 100 | E13: =SUM(C13*D13) -> 15
A14: 4 | B14: Доля полученных средств на мероприятия программы из прочих (за исключением средств бюджета МО) источников | C14: 0.15 | D14: 20 | E14: =SUM(C14*D14) -> 3
A15: 5 | B15: Выполнение плановых сроков предоставления отчетов реализации программы | C15: 0.14 | D15: 100 | E15: =SUM(C15*D15) -> 14
B16: Количественная интегральная оценка эффективности программы (Экол.) | E16: =SUM(E11:E15) -> 77

Sheet финансы
A1: Учетный регистр
A2: для количественной оценки
A3: эффективности реализации программы
A4: =[1]оценка!U4 -> Ведомственная целевая программа «Повышение эффективности управления муниципальными финансами муниципального района «Горный улус» на 2020-2024 годы»
A5: на 2021 года
A7: № п/п | B7: Критерий (К) | C7: Весовой коэффициент критерия(Gi) | D7: Количественная оценка параметра (W) | E7: Расчет оценочного показателя по каждому критерию (Gi * Wi),ед. (балл)
A10: 1 | B10: 2 | C10: 3 | D10: 4 | E10: 5
A11: 1 | B11: Индекс результативности <*> (рассчитывается заказчиком программы на основании разработанной методики оценки эффективности реализации программы, утвержденной до начала ее реализации) | C11: 0.55 | D11: 80 | E11: =SUM(C11*D11) -> 44
A12: 2 | B12: Уровень фактического финансирования программы с утвержденным планом в бюджете с уточненным | C12: 0.01 | D12: 50 | E12: =SUM(C12*D12) -> 0.5
A13: 3 | B13: Уровень фактического финансирования программы в соответствии с кассовым планом | C13: 0.15 | D13: 100 | E13: =SUM(C13*D13) -> 15
A14: 4 | B14: Доля полученных средств на мероприятия программы из прочих (за исключением средств бюджета МО) источников | C14: 0.15 | D14: 20 | E14: =SUM(C14*D14) -> 3
