Workbook

Sheet разбивка по мер
C1: Предусмотрено по программе на 2017 год | I1: Утверждено (уточнено) в бюджете на 2017 год (тыс.руб.) | O1: % финансров.программ за отч.период | P1: Кассовые расходы за 2017 год (тыс.руб.) | V1: % финансров.программ за отч.период
C2: Итого | D2: ФБ | E2: РБ | F2: МР | G2: МО | H2: ВБ | I2: Итого | J2: ФБ | K2: РБ | L2: МР | M2: МО | N2: ВБ | P2: Итого | Q2: ФБ | R2: РБ | S2: МР | T2: МО | U2: ВБ
B3: ВСЕГО | C3: =C5+C31+C39+C48+C57+C151+C166+C187+C201+C212+C217+C232+C246+C253+C281+C294+C311+C313+C348+C379+C398+C433 -> 1614118.2 | D3: =D5+D31+D39+D48+D57+D151+D166+D187+D201+D212+D217+D232+D246+D253+D281+D294+D311+D313+D348+D379+D398+D433 -> 42681.7 | E3: =E5+E31+E39+E48+E57+E151+E166+E187+E201+E212+E217+E232+E246+E253+E281+E294+E311+E313+E348+E379+E398+E433 -> 859841.99 | F3: =F5+F31+F39+F48+F57+F151+F166+F187+F201+F212+F217+F232+F246+F253+F281+F294+F311+F313+F348+F379+F398+F433 -> 508473.74 | G3: =G5+G31+G39+G48+G57+G151+G166+G187+G201+G212+G217+G232+G246+G253+G281+G294+G311+G313+G348+G379+G398+G433 -> 57524.06 | H3: =H5+H31+H39+H48+H57+H151+H166+H187+H201+H212+H217+H232+H246+H253+H281+H294+H311+H313+H348+H379+H398+H433 -> 145596.72 | I3: =I5+I31+I39+I48+I57+I151+I166+I187+I201+I212+I217+I232+I246+I253+I281+I294+I311+I313+I348+I379+I398+I433+I458 -> 1555656.4 | J3: =J5+J31+J39+J48+J57+J151+J166+J187+J201+J212+J217+J232+J246+J253+J281+J294+J311+J313+J348+J379+J398+J433+J458 -> 33944.795 | K3: =K5+K31+K39+K48+K57+K151+K166+K187+K201+K212+K217+K232+K246+K253+K281+K294+K311+K313+K348+K379+K398+K433+K458 -> 855829.09 | L3: =L5+L31+L39+L48+L57+L151+L166+L187+L201+L212+L217+L232+L246+L253+L281+L294+L311+L313+L348+L379+L398+L433+L458 -> 521981.08 | M3: =M5+M31+M39+M48+M57+M151+M166+M187+M201+M212+M217+M232+M246+M253+M281+M294+M311+M313+M348+M379+M398+M433+M458 -> 56152.621 | N3: =N5+N31+N39+N48+N57+N151+N166+N187+N201+N212+N217+N232+N246+N253+N281+N294+N311+N313+N348+N379+N398+N433+N458 -> 87748.834 | O3: =(I3/C3)*100 -> 96.378097 | P3: =P5+P31+P39+P48+P57+P151+P166+P187+P201+P212+P217+P232+P246+P253+P281+P294+P311+P313+P348+P379+P398+P433 -> 1532840.8 | Q3: =Q5+Q31+Q39+Q48+Q57+Q151+Q166+Q187+Q201+Q212+Q217+Q232+Q246+Q253+Q281+Q294+Q311+Q313+Q348+Q379+Q398+Q433 -> 33944.795 | R3: =R5+R31+R39+R48+R57+R151+R166+R187+R201+R212+R217+R232+R246+R253+R281+R294+R311+R313+R348+R379+R398+R433 -> 850591.1 | S3: =S5+S31+S39+S48+S57+S151+S166+S187+S201+S212+S217+S232+S246+S253+S281+S294+S311+S313+S348+S379+S398+S433 -> 506806.51 | T3: =T5+T31+T39+T48+T57+T151+T166+T187+T201+T212+T217+T232+T246+T253+T281+T294+T311+T313+T348+T379+T398+T433 -> 55842.12 | U3: =U5+U31+U39+U48+U57+U151+U166+U187+U201+U212+U217+U232+U246+U253+U281+U294+U311+U313+U348+U379+U398+U433 -> 85656.24 | V3: =SUM(P3/I3*100) -> 98.533375
V4: =SUM(P4/I4*100) -> #DIV/0!
A5: 1 | B5: Обеспечение качественным жильем в МР "Горный улус" на 2012-2019 годы | C5: =C6+C9+C11+C13+C15+C18+C20+C24+C26+C28 -> 251234.22 | D5: =D6+D9+D11+D13+D15+D18+D20+D24+D26+D28 -> 3000 | E5: =E6+E9+E11+E13+E15+E18+E20+E24+E26+E28 -> 163646.84 | F5: =F6+F9+F11+F13+F15+F18+F20+F24+F26+F28 -> 8163.76 | G5: =G6+G9+G11+G13+G15+G18+G20+G24+G26+G28 -> 3088.76 | H5: =H6+H9+H11+H13+H15+H18+H20+H24+H26+H28 -> 73334.86 | I5: =I6+I9+I11+I13+I15+I18+I20+I24+I26+I28 -> 165060.37 | J5: =J6+J9+J11+J13+J15+J18+J20+J24+J26+J28 -> 6001.2291 | ... N5: =N6+N9+N11+N13+N15+N18+N20+N24+N26+N28 -> 7958.834 | O5: =(I5/C5)*100 -> 65.699797 | P5: =SUM(Q5:U5) -> 163402.38 | Q5: =SUM(Q6+Q9+Q11+Q13+Q15+Q18+Q20+Q24+Q26+Q28) -> 6001.2291 | R5: =SUM(R6+R9+R11+R13+R15+R18+R20+R24+R26+R28) -> 145567.26 | S5: =SUM(S6+S9+S11+S13+S15+S18+S20+S24+S26+S28) -> 3467.6448 | T5: =SUM(T6+T9+T11+T13+T15+T18+T20+T24+T26+T28) -> 2500 | U5: =SUM(U6+U9+U11+U13+U15+U18+U20+U24+U26+U28) -> 5866.24 | V5: =SUM(P5/I5*100) -> 98.995523
A6: 1.1. | B6: Градостроительное планирование развития территорий. Снижение административных барьеров в области строительства | C6: =SUM(D6:H6) -> 1250 | D6: =D7+D8 -> 0 | E6: =E7+E8 -> 0 | F6: =F7+F8 -> 800 | G6: =G7+G8 -> 450 | H6: =H7+H8 -> 0 | I6: =SUM(J6:N6) -> 1216.23 | J6: =J7+J8 -> 0 | K6: =K7+K8 -> 478.89376 | L6: =L7+L8 -> 287.33627 | M6: =M7+M8 -> 450 | N6: =N7+N8 -> 0 | O6: =(I6/C6)*100 -> 97.298402 | P6: =SUM(Q6:U6) -> 1216.23 | Q6: =Q7+Q8 -> 0 | R6: =R7+R8 -> 478.89 | S6: =S7+S8 -> 287.34 | T6: =T7+T8 -> 450 | U6: =U7+U8 -> 0 | V6: =SUM(P6/I6*100) -> 99.999998
B7: Подготовка и утверждение документов по планировке территорий муниципальных образований | C7: =SUM(D7:H7) -> 1250 | D7: 0 | E7: 0 | F7: 800 | G7: 450 | H7: 0 | I7: =SUM(J7:N7) -> 1216.23 | J7: 0 | K7: 478.89376 | L7: 287.33627 | M7: 450 | N7: 0 | O7: =(I7/C7)*100 -> 97.298402 | P7: =SUM(Q7:U7) -> 1216.23 | Q7: 0 | R7: 478.89 | S7: 287.34 | T7: 450 | U7: 0 | V7: =SUM(P7/I7*100) -> 99.999998 | X7: 478.8 | Y7: 287.33
B8: Разработка местных нормативов градостроительного проектирования муниципальных образований | C8: =SUM(D8:H8) -> 0 | D8: 0 | E8: 0 | F8: 0 | G8: 0 | H8: 0 | I8: =SUM(J8:N8) -> 0 | J8: 0 | K8: 0 | L8: 0 | M8: 0 | N8: 0 | O8: =(I8/C8)*100 -> #DIV/0! | P8: =SUM(Q8:U8) -> 0 | Q8: 0 | R8: 0 | S8: 0 | T8: 0 | U8: 0 | V8: =SUM(P8/I8*100) -> #DIV/0!
A9: 1.2. | B9: Переселение граждан из ветхого и аварийного жилищного фонда | C9: =SUM(D9:H9) -> 144909.22 | D9: =D10 -> 0 | E9: =E10 -> 114446.84 | F9: =F10 -> 1913.76 | G9: =G10 -> 713.76 | H9: =H10 -> 27834.86 | I9: =SUM(J9:N9) -> 136261.46 | J9: =J10 -> 0 | K9: =K10 -> 136261.46 | L9: =L10 -> 0 | M9: =M10 -> 0 | N9: =N10 -> 0 | O9: =(I9/C9)*100 -> 94.032291 | P9: =SUM(Q9:U9) -> 137637.84 | Q9: =Q10 -> 0 | R9: =R10 -> 136261.46 | S9: =S10 -> 1376.3783 | T9: =T10 -> 0 | U9: =U10 -> 0 | V9: =SUM(P9/I9*100) -> 101.0101
B10: Переселение граждан из аварийного жилищного фонда с использованием средств финансовой поддержки Фонда содействия реформированию жилищно-коммунального хозяйства (в рамках реализации республиканских адресных программ) | C10: =SUM(D10:H10) -> 144909.22 | D10: 0 | E10: 114446.84 | F10: 1913.76 | G10: 713.76 | H10: 27834.86 | I10: =SUM(J10:N10) -> 136261.46 | J10: 0 | K10: 136261.46 | L10: 0 | M10: 0 | N10: 0 | O10: =(I10/C10)*100 -> 94.032291 | P10: =SUM(Q10:U10) -> 137637.84 | Q10: 0 | R10: 136261.46 | S10: 1376.3783 | T10: 0 | U10: 0 | V10: =SUM(P10/I10*100) -> 101.0101 | X10: 184193.81 | Y10: =SUM(42327.41+3718312.04) -> 3760639.5 | Z10: =SUM(35700+3718312.04) -> 3754012
A11: 1.3. | B11: Обеспечение жильем работников бюджетной сферы | C11: =SUM(D11:H11) -> 0 | D11: =D12 -> 0 | E11: =E12 -> 0 | F11: =F12 -> 0 | G11: =G12 -> 0 | H11: =H12 -> 0 | I11: =SUM(J11:N11) -> 0 | J11: =J12 -> 0 | K11: =K12 -> 0 | L11: =L12 -> 0 | M11: =M12 -> 0 | N11: =N12 -> 0 | P11: =SUM(Q11:U11) -> 0 | Q11: =Q12 -> 0 | R11: =R12 -> 0 | S11: =S12 -> 0 | T11: =T12 -> 0 | U11: =U12 -> 0 | V11: =SUM(P11/I11*100) -> #DIV/0!
B12: Предоставление работникам бюджетной сферы социальных выплат на приобретение жилья на первичном рынке недвижимости | C12: =SUM(D12:H12) -> 0 | D12: 0 | E12: 0 | F12: 0 | G12: 0 | H12: 0 | I12: =SUM(J12:N12) -> 0 | J12: 0 | K12: 0 | P12: =SUM(Q12:U12) -> 0 | Q12: 0 | R12: 0 | S12: 0 | T12: 0 | U12: 0 | V12: =SUM(P12/I12*100) -> #DIV/0! | Y12: 120 | Z12: 120
A13: 1.4. | B13: Комплексное освоение и развитие территорий в целях жилищного строительства | C13: =SUM(D13:H13) -> 0 | D13: =D14 -> 0 | E13: =E14 -> 0 | F13: =F14 -> 0 | G13: =G14 -> 0 | H13: =H14 -> 0 | I13: =SUM(J13:N13) -> 0 | J13: =J14 -> 0 | K13: =K14 -> 0 | L13: =L14 -> 0 | M13: =M14 -> 0 | N13: =N14 -> 0 | P13: =SUM(Q13:U13) -> 0 | Q13: =Q14 -> 0 | R13: =R14 -> 0 | S13: =S14 -> 0 | T13: =T14 -> 0 | U13: =U14 -> 0 | V13: =SUM(P13/I13*100) -> #DIV/0!
B14: Реализация проектов комплексного освоения и развития территорий в целях жилищного строительства | C14: =SUM(D14:H14) -> 0 | D14: 0 | E14: 0 | F14: 0 | G14: 0 | H14: 0 | I14: =SUM(J14:N14) -> 0 | J14: 0 | K14: 0 | L14: 0 | M14: 0 | N14: 0 | P14: =SUM(Q14:U14) -> 0 | Q14: 0 | R14: 0 | S14: 0 | T14: 0 | U14: 0 | V14: =SUM(P14/I14*100) -> #DIV/0!
A15: 1.5. | B15: Индивидуальное жилищное строительство | C15: =SUM(D15:H15) -> 38650 | D15: =D16+D17 -> 0 | E15: =E16+E17 -> 20000 | F15: =F16+F17 -> 1000 | G15: =G16+G17 -> 650 | H15: =H16+H17 -> 17000 | I15: =SUM(J15:N15) -> 13782.618 | J15: =J16+J17 -> 0 | K15: =K16+K17 -> 4673.784 | L15: =L16+L17 -> 1000 | M15: =M16+M17 -> 150 | N15: =N16+N17 -> 7958.834 | O15: =(I15/C15)*100 -> 35.660072 | P15: =SUM(Q15:U15) -> 10748.246 | Q15: =Q16+Q17 -> 0 | R15: =R16+R17 -> 4673.78 | S15: =S16+S17 -> 58.22648 | T15: =T16+T17 -> 150 | U15: =U16+U17 -> 5866.24 | V15: =SUM(P15/I15*100) -> 77.98407
B16: Предоставление кредитных (заемных) средств гражданам на строительство индивидуального жилья сроком до 10 лет | C16: =SUM(D16:H16) -> 17000 | D16: 0 | E16: 0 | F16: 0 | G16: 0 | H16: 17000 | I16: =SUM(J16:N16) -> 7958.834 | J16: 0 | K16: 0 | L16: 0 | M16: 0 | N16: 7958.834 | O16: =(I16/C16)*100 -> 46.816671 | P16: =SUM(Q16:U16) -> 5866.24 | Q16: 0 | R16: 0 | S16: 0 | T16: 0 | U16: 5866.24 | V16: =SUM(P16/I16*100) -> 73.707279
B17: Выделение средств в виде капитальных вложений на обустройство зон индивидуальной жилой застройки | C17: =SUM(D17:H17) -> 21650 | D17: 0 | E17: 20000 | F17: 1000 | G17: 650 | H17: 0 | I17: =SUM(J17:N17) -> 5823.784 | J17: 0 | K17: 4673.784 | L17: 1000 | M17: 150 | N17: 0 | O17: =(I17/C17)*100 -> 26.899695 | P17: =SUM(Q17:U17) -> 4882.0065 | Q17: 0 | R17: 4673.78 | S17: 58.22648 | T17: 150 | U17: 0 | V17: =SUM(P17/I17*100) -> 83.82877 | X17: 4673.783 | Y17: 1000 | Z17: 58.226
A18: 1.6. | B18: Обеспечение жильем молодых семей | C18: =SUM(D18:H18) -> 8475 | D18: =D19 -> 3000 | E18: =E19 -> 1700 | F18: =F19 -> 2500 | G18: =G19 -> 1275 | H18: =H19 -> 0 | I18: =SUM(J18:N18) -> 13800.064 | J18: =J19 -> 6001.2291 | K18: =K19 -> 4153.1349 | L18: =L19 -> 1745.7 | M18: =M19 -> 1900 | N18: =N19 -> 0 | O18: =(I18/C18)*100 -> 162.83261 | P18: =SUM(Q18:U18) -> 13800.064 | Q18: =Q19 -> 6001.2291 | R18: =R19 -> 4153.1349 | S18: =S19 -> 1745.7 | T18: =T19 -> 1900 | U18: =U19 -> 0 | V18: =SUM(P18/I18*100) -> 100
B19: Предоставление молодым семьям-участникам подпрограммы социальных выплат на приобретение жилья эконом-класса или строительство индивидуального жилого дома эконом-класса | C19: =SUM(D19:H19) -> 8475 | D19: 3000 | E19: 1700 | F19: 2500 | G19: 1275 | H19: 0 | I19: =SUM(J19:N19) -> 13800.064 | J19: 6001.2291 | K19: 4153.1349 | L19: 1745.7 | M19: 1900 | N19: 0 | O19: =(I19/C19)*100 -> 162.83261 | P19: =SUM(Q19:U19) -> 13800.064 | Q19: 6001.2291 | R19: 4153.1349 | S19: 1745.7 | T19: 1900 | U19: 0 | V19: =SUM(P19/I19*100) -> 100 | X19: 3642.99 | Y19: 3642.99 | Z19: 3642.99
A20: 1.7. | B20: Обеспечение жильем отдельных категорий граждан | C20: =SUM(D20:H20) -> 11600 | D20: =D21+D22+D23 -> 0 | E20: =E21+E22+E23 -> 10500 | F20: =F21+F22+F23 -> 1100 | G20: =G21+G22+G23 -> 0 | H20: =H21+H22+H23 -> 0 | I20: =SUM(J20:N20) -> 0 | J20: =J21+J22+J23 -> 0 | K20: =K21+K22+K23 -> 0 | L20: =L21+L22+L23 -> 0 | M20: =M21+M22+M23 -> 0 | N20: =N21+N22+N23 -> 0 | O20: =(I20/C20)*100 -> 0 | P20: =SUM(Q20:U20) -> 0 | Q20: =Q21+Q22+Q23 -> 0 | R20: =R21+R22+R23 -> 0 | S20: =S21+S22+S23 -> 0 | T20: =T21+T22+T23 -> 0 | U20: =U21+U22+U23 -> 0 | V20: =SUM(P20/I20*100) -> #DIV/0!
B21: Предоставление гражданам, пострадавших от воздействия радиационных аварий и катастроф и приравненных к ним лицам социальных выплат посредством государственных жилищных сертификатов на приобретение жилья | C21: =SUM(D21:H21) -> 0 | D21: 0 | E21: 0 | F21: 0 | G21: 0 | H21: 0 | I21: =SUM(J21:N21) -> 0 | J21: 0 | K21: 0 | L21: 0 | M21: 0 | N21: 0 | P21: =SUM(Q21:U21) -> 0 | Q21: 0 | R21: 0 | S21: 0 | T21: 0 | U21: 0 | V21: =SUM(P21/I21*100) -> #DIV/0!
B22: Обеспечение жильем граждан-ветеранов боевых действий, инвалидов и семей, имеющих детей-инвалидов | C22: =SUM(D22:H22) -> 1100 | D22: 0 | E22: 0 | F22: 1100 | G22: 0 | H22: 0 | I22: =SUM(J22:N22) -> 0 | J22: 0 | K22: 0 | L22: 0 | M22: 0 | N22: 0 | O22: =(I22/C22)*100 -> 0 | P22: =SUM(Q22:U22) -> 0 | Q22: 0 | R22: 0 | S22: 0 | T22: 0 | U22: 0 | V22: =SUM(P22/I22*100) -> #DIV/0!
B23: Обеспечение жильем многодетных семей, имеющих 5 и более несовершеннолетних детей | C23: =SUM(D23:H23) -> 10500 | D23: 0 | E23: 10500 | F23: 0 | G23: 0 | H23: 0 | I23: =SUM(J23:N23) -> 0 | J23: 0 | K23: 0 | L23: 0 | M23: 0 | N23: 0 | O23: =(I23/C23)*100 -> 0 | P23: =SUM(Q23:U23) -> 0 | Q23: 0 | R23: 0 | S23: 0 | T23: 0 | U23: 0 | V23: =SUM(P23/I23*100) -> #DIV/0!
A24: 1.8. | B24: Строительство жилищного фонда социального использования | C24: =SUM(D24:H24) -> 0 | D24: =D25 -> 0 | E24: =E25 -> 0 | F24: =F25 -> 0 | G24: =G25 -> 0 | H24: =H25 -> 0 | I24: =SUM(J24:N24) -> 0 | J24: =J25 -> 0 | K24: =K25 -> 0 | L24: =L25 -> 0 | M24: =M25 -> 0 | N24: =N25 -> 0 | P24: =SUM(Q24:U24) -> 0 | Q24: =Q25 -> 0 | R24: =R25 -> 0 | S24: =S25 -> 0 | T24: =T25 -> 0 | U24: =U25 -> 0 | V24: =SUM(P24/I24*100) -> #DIV/0!
B25: Строительство многоквартирных жилых домов социального использования | C25: =SUM(D25:H25) -> 0 | D25: 0 | E25: 0 | F25: 0 | G25: 0 | H25: 0 | I25: =SUM(J25:N25) -> 0 | J25: 0 | K25: 0 | L25: 0 | M25: 0 | N25: 0 | P25: =SUM(Q25:U25) -> 0 | Q25: 0 | R25: 0 | S25: 0 | T25: 0 | U25: 0 | V25: =SUM(P25/I25*100) -> #DIV/0!
A26: 1.9. | B26: Повышение доступности рынка многоквартирных жилых домов | C26: =SUM(D26:H26) -> 46350 | D26: =D27 -> 0 | E26: =E27 -> 17000 | F26: =F27 -> 850 | G26: =G27 -> 0 | H26: =H27 -> 28500 | I26: =SUM(J26:N26) -> 0 | J26: =J27 -> 0 | K26: =K27 -> 0 | L26: =L27 -> 0 | M26: =M27 -> 0 | N26: =N27 -> 0 | O26: =(I26/C26)*100 -> 0 | P26: =SUM(Q26:U26) -> 0 | Q26: =Q27 -> 0 | R26: =R27 -> 0 | S26: =S27 -> 0 | T26: =T27 -> 0 | U26: =U27 -> 0 | V26: =SUM(P26/I26*100) -> #DIV/0!
B27: Предоставление участникам подпрограммы социальных выплат на приобретение жилья на первичном рынке недвижимости | C27: =SUM(D27:H27) -> 46350 | D27: 0 | E27: 17000 | F27: 850 | G27: 0 | H27: 28500 | I27: =SUM(J27:N27) -> 0 | J27: 0 | K27: 0 | L27: 0 | M27: 0 | N27: 0 | O27: =(I27/C27)*100 -> 0 | P27: =SUM(Q27:U27) -> 0 | Q27: 0 | R27: 0 | S27: 0 | T27: 0 | U27: 0 | V27: =SUM(P27/I27*100) -> #DIV/0!
A28: 1.10. | B28: Ипотечное кредитование молодых учителей | C28: =SUM(D28:H28) -> 0 | D28: =D29 -> 0 | E28: =E29 -> 0 | F28: =F29 -> 0 | G28: =G29 -> 0 | H28: =H29 -> 0 | I28: =SUM(J28:N28) -> 0 | J28: =J29 -> 0 | K28: =K29 -> 0 | L28: =L29 -> 0 | M28: =M29 -> 0 | N28: =N29 -> 0 | P28: =SUM(Q28:U28) -> 0 | Q28: =Q29 -> 0 | R28: =R29 -> 0 | S28: =S29 -> 0 | T28: =T29 -> 0 | U28: =U29 -> 0 | V28: =SUM(P28/I28*100) -> #DIV/0!
B29: Предоставление участникам подпрограммы ипотечного кредитования молодых учителей | C29: =SUM(D29:H29) -> 0 | D29: 0 | E29: 0 | F29: 0 | G29: 0 | H29: 0 | I29: =SUM(J29:N29) -> 0 | J29: 0 | K29: 0 | L29: 0 | M29: 0 | N29: 0 | P29: =SUM(Q29:U29) -> 0 | Q29: 0 | R29: 0 | S29: 0 | T29: 0 | U29: 0 | V29: =SUM(P29/I29*100) -> #DIV/0!
A30: 2 | B30: Переселение граждан из ветхого и аварийного жилищного фонда | V30: =SUM(P30/I30*100) -> #DIV/0!
A31: 3 | B31: Развитие промышленности на территории МР "Горный улус" РС(Я) на период 2012-2016годы и основные направления до 2020 года | C31: =SUM(D31:H31) -> 0 | D31: =D32+D33+D34 -> 0 | E31: =E32+E33+E34 -> 0 | F31: =F32+F33+F34 -> 0 | G31: =G32+G33+G34 -> 0 | H31: =H32+H33+H34 -> 0 | I31: =I32+I33+I34 -> 0 | J31: =J32+J33+J34 -> 0 | K31: =K32+K33+K34 -> 0 | ... N31: =N32+N33+N34 -> 0 | O31: =(I31/C31)*100 -> #DIV/0! | P31: =SUM(Q31:U31) -> 0 | Q31: 0 | R31: 0 | S31: 0 | T31: 0 | U31: 0 | V31: =SUM(P31/I31*100) -> #DIV/0!
A32: 3.1. | B32: Пищевая и перерабатывающая промышленность | C32: =SUM(D32:H32) -> 0 | I32: =SUM(J32:N32) -> 0 | O32: =(I32/C32)*100 -> #DIV/0! | P32: =SUM(Q32:U32) -> 0 | V32: =SUM(P32/I32*100) -> #DIV/0!
A33: 3.2. | B33: Производство бутылированной питьевой воды | C33: =SUM(D33:H33) -> 0 | I33: =SUM(J33:N33) -> 0 | O33: =(I33/C33)*100 -> #DIV/0! | P33: =SUM(Q33:U33) -> 0 | V33: =SUM(P33/I33*100) -> #DIV/0!
A34: 3.3. | B34: Развитие лесопромышленного комплекса | C34: =SUM(D34:H34) -> 0 | I34: =SUM(J34:N34) -> 0 | O34: =(I34/C34)*100 -> #DIV/0! | P34: =SUM(Q34:U34) -> 0 | V34: =SUM(P34/I34*100) -> #DIV/0!
B35: Строительство автодорог | C35: =SUM(D35:H35) -> 0 | I35: =SUM(J35:N35) -> 0 | O35: =(I35/C35)*100 -> #DIV/0! | P35: =SUM(Q35:U35) -> 0 | V35: =SUM(P35/I35*100) -> #DIV/0!
B36: Приобретение техники и лесоперерабатывающего оборудования | C36: =SUM(D36:H36) -> 0 | I36: =SUM(J36:N36) -> 0 | O36: =(I36/C36)*100 -> #DIV/0! | P36: =SUM(Q36:U36) -> 0 | V36: =SUM(P36/I36*100) -> #DIV/0!
B37: Приобретение оборудования для производства биотоплива (пеллета) | C37: =SUM(D37:H37) -> 0 | I37: =SUM(J37:N37) -> 0 | O37: =(I37/C37)*100 -> #DIV/0! | P37: =SUM(Q37:U37) -> 0 | V37: =SUM(P37/I37*100) -> #DIV/0!
B38: Приобретение технологического оборудования для организации цеха по производству домокомплектов | C38: =SUM(D38:H38) -> 0 | I38: =SUM(J38:N38) -> 0 | O38: =(I38/C38)*100 -> #DIV/0! | P38: =SUM(Q38:U38) -> 0 | V38: =SUM(P38/I38*100) -> #DIV/0!
A39: 2 | B39: Дорожное хозяйство на 2012-2019 годы | C39: =SUM(D39:H39) -> 40400 | D39: =D40+D41+D43+D44+D45 -> 0 | E39: =E40+E41+E43+E44+E45 -> 25000 | F39: =F40+F41+F43+F44+F45 -> 15400 | G39: =G40+G41+G43+G44+G45 -> 0 | H39: =H40+H41+H43+H44+H45 -> 0 | I39: =SUM(J39:N39) -> 39721.679 | J39: =J40+J41+J43+J44+J45 -> 0 | K39: =K40+K41+K43+K44+K45 -> 22511.534 | L39: =L40+L41+L43+L44+L45 -> 17210.145 | M39: =M40+M41+M43+M44+M45 -> 0 | N39: =N40+N41+N43+N44+N45 -> 0 | O39: =(I39/C39)*100 -> 98.320987 | P39: =SUM(Q39:U39) -> 38471.701 | Q39: =Q40+Q41+Q43+Q44+Q45 -> 0 | R39: =R40+R41+R43+R44+R45 -> 22511.534 | S39: =S40+S41+S43+S44+S45 -> 15960.167 | T39: =T40+T41+T43+T44+T45 -> 0 | U39: =U40+U41+U43+U44+U45 -> 0 | V39: =SUM(P39/I39*100) -> 96.853161
A40: 2.1. | B40: Содержание и эксплуатация муниципальных автомобильных дорог "Бердигестях -Дикимдя-Ерт", "Орто-Сурт - Кептин", "Дикимдя-Эбэ", "Бердигестях-Аэропорт" | C40: =SUM(D40:H40) -> 3000 | D40: 0 | E40: 0 | F40: 3000 | G40: 0 | H40: 0 | I40: =SUM(J40:N40) -> 3157.3473 | J40: 0 | K40: 0 | L40: 3157.3473 | M40: 0 | N40: 0 | O40: =(I40/C40)*100 -> 105.24491 | P40: =SUM(Q40:U40) -> 2907.37 | Q40: 0 | R40: 0 | S40: 2907.37 | T40: 0 | U40: 0 | V40: =SUM(P40/I40*100) -> 92.08268
...

Sheet форма1
D1: Финансирование муниципальных программ за 2017год по МР "Горный улус"
C3: всего | H3: федеральный бюджет | L3: гоусдарственный бюджет | P3: мр | T3: мо | X3: внебюджетные средства
C4: план | D4: факт | E4: % | F4: кассовый расход | G4: остаток | H4: план | I4: факт | J4: % | K4: кассовый расход | L4: план | M4: факт | N4: % | O4: кассовый расход | P4: план | Q4: факт | R4: % | S4: кассовый расход | T4: план | U4: факт | V4: % | W4: кассовый расход | X4: план | Y4: факт | Z4: % | AA4: кассовый расход
A5: 1 | B5: Обеспечение качественным жильем в МР "Горный улус" на 2012-2019 годы | C5: =SUM(C6:C15) -> 251234.22 | D5: =SUM(D6:D15) -> 165060.36 | E5: =SUM(D5/C5*100) -> 65.699792 | F5: =SUM(K5+O5+S5+W5+AA5) -> 163402.38 | G5: =SUM(D5-F5) -> 1657.98 | H5: =SUM(H6:H15) -> 3000 | I5: =SUM(I6:I15) -> 6001.23 | J5: =SUM(I5/H5*100) -> 200.041 | K5: =SUM(K6:K15) -> 6001.23 | L5: =SUM(L6:L15) -> 163646.84 | M5: =SUM(M6:M15) -> 145567.26 | N5: =SUM(M5/L5*100) -> 88.952075 | O5: =SUM(O6:O15) -> 145567.26 | P5: =SUM(P6:P15) -> 8163.76 | Q5: =SUM(Q6:Q15) -> 3033.04 | R5: =SUM(Q5/P5*100) -> 37.152489 | S5: =SUM(S6:S15) -> 3467.65 | T5: =SUM(T6:T15) -> 3088.76 | U5: =SUM(U6:U15) -> 2500 | V5: =SUM(U5/T5*100) -> 80.938629 | W5: =SUM(W6:W15) -> 2500 | X5: =SUM(X6:X15) -> 73334.86 | Y5: =SUM(Y6:Y15) -> 7958.83 | Z5: =SUM(Y5/X5*100) -> 10.852724 | AA5: =SUM(AA6:AA15) -> 5866.24
A6: 1.1. | B6: Градостроительное планирование развития территорий. Снижение административных барьеров в области строительства | C6: =SUM(H6+L6+P6+T6+X6) -> 1250 | D6: =SUM(I6+M6+Q6+U6+Y6) -> 1216.23 | F6: =SUM(K6+O6+S6+W6+AA6) -> 1216.23 | G6: =SUM(D6-F6) -> 0 | M6: 478.89 | O6: 478.89 | P6: 800 | Q6: 287.34 | S6: 287.34 | T6: 450 | U6: 450 | W6: 450
A7: 1.2. | B7: Переселение граждан из ветхого и аварийного жилищного фонда | C7: =SUM(H7+L7+P7+T7+X7) -> 144909.22 | D7: =SUM(I7+M7+Q7+U7+Y7) -> 136261.46 | E7: =SUM(D7/C7*100) -> 94.032291 | F7: =SUM(K7+O7+S7+W7+AA7) -> 137637.84 | G7: =SUM(D7-F7) -> -1376.38 | L7: 114446.84 | M7: 136261.46 | N7: =SUM(M7/L7*100) -> 119.06092 | O7: 136261.46 | P7: 1913.76 | R7: =SUM(Q7/P7*100) -> 0 | S7: 1376.38 | T7: 713.76 | V7: =SUM(U7/T7*100) -> 0 | X7: 27834.86 | Z7: =SUM(Y7/X7*100) -> 0
A8: 1.3. | B8: Обеспечение жильем работников бюджетной сферы | C8: =SUM(H8+L8+P8+T8+X8) -> 0 | D8: =SUM(I8+M8+Q8+U8+Y8) -> 0 | F8: =SUM(K8+O8+S8+W8+AA8) -> 0 | G8: =SUM(D8-F8) -> 0
A9: 1.4. | B9: Комплексное освоение и развитие территорий в целях жилищного строительства | C9: =SUM(H9+L9+P9+T9+X9) -> 0 | D9: =SUM(I9+M9+Q9+U9+Y9) -> 0 | F9: =SUM(K9+O9+S9+W9+AA9) -> 0 | G9: =SUM(D9-F9) -> 0
A10: 1.5. | B10: Индивидуальное жилищное строительство | C10: =SUM(H10+L10+P10+T10+X10) -> 38650 | D10: =SUM(I10+M10+Q10+U10+Y10) -> 13782.61 | E10: =SUM(D10/C10*100) -> 35.660052 | F10: =SUM(K10+O10+S10+W10+AA10) -> 10748.25 | G10: =SUM(D10-F10) -> 3034.36 | L10: 20000 | M10: 4673.78 | N10: =SUM(M10/L10*100) -> 23.3689 | O10: 4673.78 | P10: 1000 | Q10: 1000 | R10: =SUM(Q10/P10*100) -> 100 | S10: 58.23 | T10: 650 | U10: 150 | V10: =SUM(U10/T10*100) -> 23.076923 | W10: 150 | X10: 17000 | Y10: 7958.83 | Z10: =SUM(Y10/X10*100) -> 46.816647 | AA10: 5866.24
A11: 1.6. | B11: Обеспечение жильем молодых семей | C11: =SUM(H11+L11+P11+T11+X11) -> 8475 | D11: =SUM(I11+M11+Q11+U11+Y11) -> 13800.06 | E11: =SUM(D11/C11*100) -> 162.83257 | F11: =SUM(K11+O11+S11+W11+AA11) -> 13800.06 | G11: =SUM(D11-F11) -> 0 | H11: 3000 | I11: 6001.23 | J11: =SUM(I11/H11*100) -> 200.041 | K11: 6001.23 | L11: 1700 | M11: 4153.13 | N11: =SUM(M11/L11*100) -> 244.30176 | O11: 4153.13 | P11: 2500 | Q11: 1745.7 | R11: =SUM(Q11/P11*100) -> 69.828 | S11: 1745.7 | T11: 1275 | U11: 1900 | V11: =SUM(U11/T11*100) -> 149.01961 | W11: 1900
A12: 1.7. | B12: Обеспечение жильем отдельных категорий граждан | C12: =SUM(H12+L12+P12+T12+X12) -> 11600 | D12: =SUM(I12+M12+Q12+U12+Y12) -> 0 | E12: =SUM(D12/C12*100) -> 0 | F12: =SUM(K12+O12+S12+W12+AA12) -> 0 | G12: =SUM(D12-F12) -> 0 | L12: 10500 | N12: =SUM(M12/L12*100) -> 0 | P12: 1100 | R12: =SUM(Q12/P12*100) -> 0
A13: 1.8. | B13: Строительство жилищного фонда социального использования | C13: =SUM(H13+L13+P13+T13+X13) -> 0 | D13: =SUM(I13+M13+Q13+U13+Y13) -> 0 | F13: =SUM(K13+O13+S13+W13+AA13) -> 0 | G13: =SUM(D13-F13) -> 0
A14: 1.9. | B14: Повышение доступности рынка многоквартирных жилых домов | C14: =SUM(H14+L14+P14+T14+X14) -> 46350 | D14: =SUM(I14+M14+Q14+U14+Y14) -> 0 | E14: =SUM(D14/C14*100) -> 0 | F14: =SUM(K14+O14+S14+W14+AA14) -> 0 | G14: =SUM(D14-F14) -> 0 | L14: 17000 | N14: =SUM(M14/L14*100) -> 0 | P14: 850 | R14: =SUM(Q14/P14*100) -> 0 | X14: 28500 | Z14: =SUM(Y14/X14*100) -> 0
A15: 1.10. | B15: Ипотечное кредитование молодых учителей | C15: =SUM(H15+L15+P15+T15+X15) -> 0 | D15: =SUM(I15+M15+Q15+U15+Y15) -> 0 | F15: =SUM(K15+O15+S15+W15+AA15) -> 0 | G15: =SUM(D15-F15) -> 0
A16: 2 | B16: Дорожное хозяйство на 2012-2019 годы | C16: =SUM(C17:C19) -> 40400 | D16: =SUM(D17:D19) -> 39721.675 | E16: =SUM(D16/C16*100) -> 98.320977 | F16: =SUM(K16+O16+S16+W16+AA16) -> 38471.7 | G16: =SUM(D16-F16) -> 1249.9746 | L16: =SUM(L17:L19) -> 25000 | M16: =SUM(M17:M19) -> 22511.53 | N16: =SUM(M16/L16*100) -> 90.04612 | O16: 22511.53 | P16: =SUM(P17:P19) -> 15400 | Q16: =SUM(Q17:Q19) -> 17210.145 | R16: =SUM(Q16/P16*100) -> 111.75419 | S16: =SUM(S17:S19) -> 15960.17
A17: 2.1. | B17: Содержание и эксплуатация муниципальных автомобильных дорог "Бердигестях -Дикимдя-Ерт", "Орто-Сурт - Кептин", "Дикимдя-Эбэ", "Бердигестях-Аэропорт" | C17: =SUM(H17+L17+P17+T17+X17) -> 3000 | D17: =SUM(I17+M17+Q17+U17+Y17) -> 3157.3473 | E17: =SUM(D17/C17*100) -> 105.24491 | F17: =SUM(K17+O17+S17+W17+AA17) -> 2907.37 | G17: =SUM(D17-F17) -> 249.97731 | P17: 3000 | Q17: 3157.3473 | R17: =SUM(Q17/P17*100) -> 105.24491 | S17: 2907.37
A18: 2.2. | B18: Ремонт муниципальных межпоселковых автомобильных дорог | C18: =SUM(H18+L18+P18+T18+X18) -> 7000 | D18: =SUM(I18+M18+Q18+U18+Y18) -> 11867.25 | E18: =SUM(D18/C18*100) -> 169.53214 | F18: =SUM(K18+O18+S18+W18+AA18) -> 11867.25 | G18: =SUM(D18-F18) -> 0.00014 | P18: 7000 | Q18: 11867.25 | R18: =SUM(Q18/P18*100) -> 169.53214 | S18: 11867.25
A19: 2.3. | B19: Проектирование и строительство муниципальных автомобильных дорог | C19: =SUM(H19+L19+P19+T19+X19) -> 30400 | D19: =SUM(I19+M19+Q19+U19+Y19) -> 24697.077 | E19: =SUM(D19/C19*100) -> 81.240385 | F19: =SUM(K19+O19+S19+W19+AA19) -> 23697.08 | G19: =SUM(D19-F19) -> 999.99712 | L19: 25000 | M19: 22511.53 | N19: =SUM(M19/L19*100) -> 90.04612 | O19: 22511.53 | P19: 5400 | Q19: 2185.5471 | R19: =SUM(Q19/P19*100) -> 40.473095 | S19: 1185.55
A20: 3 | B20: Энергосбережение на территории МР "Горный улус" РС(Я) на 2010-2019 годы | C20: =SUM(H20+L20+P20+T20+X20) -> 500 | D20: =SUM(I20+M20+Q20+U20+Y20) -> 1265 | E20: =SUM(D20/C20*100) -> 253 | F20: =SUM(K20+O20+S20+W20+AA20) -> 1241.294 | G20: =SUM(D20-F20) -> 23.706 | P20: 500 | Q20: 1265 | R20: =SUM(Q20/P20*100) -> 253 | S20: 1241.294
B21: Мероприятия по энергосбережению в организациях с участием муниципального образования и повышению энергетической эффективности этих организаций | C21: 500 | D21: =SUM(I21+M21+Q21+U21+Y21) -> 1265 | E21: =SUM(D21/C21*100) -> 253 | F21: =SUM(K21+O21+S21+W21+AA21) -> 1241.291 | G21: =SUM(D21-F21) -> 23.709 | P21: 500 | Q21: 1265 | R21: =SUM(Q21/P21*100) -> 253 | S21: 1241.291
A22: 4 | B22: Развитие сельскохозяйственного производства в муниципальном районе "Горный улус" Республики Саха (Якутия) на 2012-2019 годы | C22: =SUM(C23:C34) -> 284921.94 | D22: =SUM(D23:D34) -> 253334.82 | E22: =SUM(D22/C22*100) -> 88.913764 | F22: =SUM(K22+O22+S22+W22+AA22) -> 253334.87 | G22: =SUM(D22-F22) -> -0.05 | H22: =SUM(H23:H34) -> 36075 | I22: =SUM(I23:I34) -> 24168.27 | J22: =SUM(I22/H22*100) -> 66.994511 | K22: =SUM(K23:K34) -> 24168.32 | L22: =SUM(L23:L34) -> 173959.6 | M22: =SUM(M23:M34) -> 160558.37 | N22: =SUM(M22/L22*100) -> 92.296355 | O22: =SUM(O23:O34) -> 160558.37 | P22: =SUM(P23:P34) -> 17881.18 | Q22: =SUM(Q23:Q34) -> 11691.18 | R22: =SUM(Q22/P22*100) -> 65.382598 | S22: =SUM(S23:S34) -> 11691.18 | T22: =SUM(T23:T34) -> 4300 | V22: =SUM(U22/T22*100) -> 0 | W22: =SUM(W23:W34) -> 0 | X22: =SUM(X23:X34) -> 52706.16 | Y22: =SUM(Y23:Y34) -> 56917 | Z22: =SUM(Y22/X22*100) -> 107.98927 | AA22: =SUM(AA23:AA34) -> 56917
A23: 4.1 | B23: Развитие животноводства | C23: =SUM(H23+L23+P23+T23+X23) -> 30624 | D23: =SUM(I23+M23+Q23+U23+Y23) -> 22534.7 | E23: =SUM(D23/C23*100) -> 73.585097 | F23: =SUM(K23+O23+S23+W23+AA23) -> 22534.7 | G23: =SUM(D23-F23) -> 0 | H23: =SUM([1]сх!D58) -> 1100 | I23: 1971.12 | J23: =SUM(I23/H23*100) -> 179.19273 | K23: 1971.12 | L23: =SUM([1]сх!E58) -> 12980 | M23: 12252.67 | N23: =SUM(M23/L23*100) -> 94.396533 | O23: 12252.67 | P23: =SUM([1]сх!F58) -> 7050 | Q23: 3570.91 | R23: =SUM(Q23/P23*100) -> 50.651206 | S23: 3570.91 | V23: =SUM(U23/T23*100) -> #DIV/0! | X23: 9494 | Y23: 4740 | Z23: =SUM(Y23/X23*100) -> 49.926269 | AA23: 4740
A24: 4.2 | B24: Развитие растениеводства | C24: =SUM(H24+L24+P24+T24+X24) -> 8655.5 | D24: =SUM(I24+M24+Q24+U24+Y24) -> 12370.12 | E24: =SUM(D24/C24*100) -> 142.9163 | F24: =SUM(K24+O24+S24+W24+AA24) -> 12370.12 | G24: =SUM(D24-F24) -> 0 | H24: =SUM([1]сх!D78) -> 1100 | J24: =SUM(I24/H24*100) -> 0 | L24: =SUM([1]сх!E78) -> 2584.2 | M24: 7368.25 | N24: =SUM(M24/L24*100) -> 285.12693 | O24: 7368.25 | P24: =SUM([1]сх!F78) -> 2050 | Q24: 5001.87 | R24: =SUM(Q24/P24*100) -> 243.99366 | S24: 5001.87 | T24: 100 | V24: =SUM(U24/T24*100) -> 0 | X24: 2821.3 | Z24: =SUM(Y24/X24*100) -> 0
A25: 4.3 | B25: Развитие пищевой и перерабатывающей промышленности | C25: =SUM(H25+L25+P25+T25+X25) -> 161426.86 | D25: =SUM(I25+M25+Q25+U25+Y25) -> 154016.5 | E25: =SUM(D25/C25*100) -> 95.409463 | F25: =SUM(K25+O25+S25+W25+AA25) -> 154016.5 | G25: =SUM(D25-F25) -> 0 | H25: =SUM([1]сх!D99) -> 17200 | J25: =SUM(I25/H25*100) -> 0 | L25: =SUM([1]сх!E99) -> 100210 | M25: 116531.5 | N25: =SUM(M25/L25*100) -> 116.2873 | O25: 116531.5 | P25: =SUM([1]сх!F99) -> 2376 | Q25: 76 | R25: =SUM(Q25/P25*100) -> 3.1986532 | S25: 76 | T25: 1850 | V25: =SUM(U25/T25*100) -> 0 | X25: 39790.86 | Y25: 37409 | Z25: =SUM(Y25/X25*100) -> 94.014052 | AA25: 37409
A26: 4.4 | B26: Развитие мелиорации сельскохозяйственных земель | C26: =SUM(H26+L26+P26+T26+X26) -> 0 | D26: =SUM(I26+M26+Q26+U26+Y26) -> 0 | F26: =SUM(K26+O26+S26+W26+AA26) -> 0 | G26: =SUM(D26-F26) -> 0
A27: 4.5 | B27: Развитие традиционных отраслей Севера | C27: =SUM(H27+L27+P27+T27+X27) -> 2905 | D27: =SUM(I27+M27+Q27+U27+Y27) -> 1155 | E27: =SUM(D27/C27*100) -> 39.759036 | F27: =SUM(K27+O27+S27+W27+AA27) -> 1155 | G27: =SUM(D27-F27) -> 0 | H27: =SUM([1]сх!D112) -> 50 | J27: =SUM(I27/H27*100) -> 0 | L27: =SUM([1]сх!E112) -> 2555 | M27: 855 | N27: =SUM(M27/L27*100) -> 33.463796 | O27: 855 | P27: 300 | Q27: 300 | R27: =SUM(Q27/P27*100) -> 100 | S27: 300
A28: 4.6 | B28: Устойчивое развитие сельских территорий | C28: =SUM(H28+L28+P28+T28+X28) -> 20800 | D28: =SUM(I28+M28+Q28+U28+Y28) -> 38552.63 | E28: =SUM(D28/C28*100) -> 185.34918 | F28: =SUM(K28+O28+S28+W28+AA28) -> 38552.68 | G28: =SUM(D28-F28) -> -0.05 | H28: =SUM([1]сх!D121) -> 9600 | I28: 14785.15 | J28: =SUM(I28/H28*100) -> 154.01198 | K28: 14785.2 | L28: =SUM([1]сх!E121) -> 11200 | M28: 10274.48 | N28: =SUM(M28/L28*100) -> 91.736429 | O28: 10274.48 | Y28: 13493 | AA28: 13493
A29: 4.7 | B29: Создание общих условий функционирования сельского хозяйства | C29: =SUM(H29+L29+P29+T29+X29) -> 2000 | D29: =SUM(I29+M29+Q29+U29+Y29) -> 3382 | E29: =SUM(D29/C29*100) -> 169.1 | F29: =SUM(K29+O29+S29+W29+AA29) -> 3382 | G29: =SUM(D29-F29) -> 0 | H29: =SUM([1]сх!D123) -> 900 | J29: =SUM(I29/H29*100) -> 0 | L29: 1100 | M29: 3382 | N29: =SUM(M29/L29*100) -> 307.45455 | O29: 3382
A30: 4.8 | B30: Кадровое обеспечение | C30: =SUM(H30+L30+P30+T30+X30) -> 150 | D30: =SUM(I30+M30+Q30+U30+Y30) -> 0 | E30: =SUM(D30/C30*100) -> 0 | F30: =SUM(K30+O30+S30+W30+AA30) -> 0 | G30: =SUM(D30-F30) -> 0 | L30: 150 | N30: =SUM(M30/L30*100) -> 0
A31: 4.9 | B31: Развитие кооперации и малых форм хозяйствования на селе | C31: =SUM(H31+L31+P31+T31+X31) -> 37225 | D31: =SUM(I31+M31+Q31+U31+Y31) -> 9775 | E31: =SUM(D31/C31*100) -> 26.259234 | F31: =SUM(K31+O31+S31+W31+AA31) -> 9775 | G31: =SUM(D31-F31) -> 0 | H31: =SUM([1]сх!D129) -> 4425 | I31: 7412 | J31: =SUM(I31/H31*100) -> 167.50282 | K31: 7412 | L31: =SUM([1]сх!E129) -> 31800 | M31: 1088 | N31: =SUM(M31/L31*100) -> 3.4213836 | O31: 1088 | P31: 500 | R31: =SUM(Q31/P31*100) -> 0 | T31: 500 | V31: =SUM(U31/T31*100) -> 0 | Y31: 1275 | AA31: 1275
A32: 4.10 | B32: Комплексное обустройство населенных пунктов, расположенных в сельской местности, объектами социальной и инженерной инфраструктуры | C32: =SUM(H32+L32+P32+T32+X32) -> 4700 | D32: =SUM(I32+M32+Q32+U32+Y32) -> 0 | E32: =SUM(D32/C32*100) -> 0 | F32: =SUM(K32+O32+S32+W32+AA32) -> 0 | G32: =SUM(D32-F32) -> 0 | H32: 200 | J32: =SUM(I32/H32*100) -> 0 | L32: =SUM([1]сх!E133) -> 1700 | N32: =SUM(M32/L32*100) -> 0 | P32: 1500 | R32: =SUM(Q32/P32*100) -> 0 | T32: 1100 | V32: =SUM(U32/T32*100) -> 0 | X32: 200 | Z32: =SUM(Y32/X32*100) -> 0
A33: 4.11 | B33: Грантовая поддержка местных инициатив граждан, проживающих в сельской местности | C33: =SUM(H33+L33+P33+T33+X33) -> 8255.18 | D33: =SUM(I33+M33+Q33+U33+Y33) -> 0 | E33: =SUM(D33/C33*100) -> 0 | F33: =SUM(K33+O33+S33+W33+AA33) -> 0 | G33: =SUM(D33-F33) -> 0 | H33: =SUM([1]сх!D140) -> 1500 | J33: =SUM(I33/H33*100) -> 0 | L33: =SUM([1]сх!E140) -> 1500 | N33: =SUM(M33/L33*100) -> 0 | P33: 4105.18 | R33: =SUM(Q33/P33*100) -> 0 | T33: 750 | V33: =SUM(U33/T33*100) -> 0 | X33: 400 | Z33: =SUM(Y33/X33*100) -> 0
A34: 4.12 | B34: Содержание МКУ "УСХ МР "Горный улус" | C34: =SUM(H34+L34+P34+T34+X34) -> 8180.4 | D34: =SUM(I34+M34+Q34+U34+Y34) -> 11548.87 | E34: =SUM(D34/C34*100) -> 141.17733 | F34: =SUM(K34+O34+S34+W34+AA34) -> 11548.87 | G34: =SUM(D34-F34) -> 0 | L34: 8180.4 | M34: 8806.47 | N34: =SUM(M34/L34*100) -> 107.65329 | O34: 8806.47 | Q34: 2742.4 | S34: 2742.4
A35: 5 | B35: Управление муниципальной собственностью муниципальном районе "Горный улус" на 2015-2017 годы | C35: =SUM(C36:C40) -> 3255.4 | D35: =SUM(D36:D40) -> 5968.33 | E35: =SUM(D35/C35*100) -> 183.3363 | F35: =SUM(K35+O35+S35+W35+AA35) -> 5968.33 | G35: =SUM(D35-F35) -> 0 | P35: =SUM(P36:P40) -> 3255.4 | Q35: =SUM(Q36:Q40) -> 3355.13 | R35: =SUM(Q35/P35*100) -> 103.06353 | S35: =SUM(S36:S40) -> 3355.13 | U35: =SUM(U36:U40) -> 2613.2 | W35: =SUM(W36:W40) -> 2613.2
A36: 1.1. | B36: Управление программой | C36: =SUM(H36+L36+P36+T36+X36) -> 2605.4 | D36: =SUM(I36+M36+Q36+U36+Y36) -> 5318.33 | E36: =SUM(D36/C36*100) -> 204.1272 | F36: =SUM(K36+O36+S36+W36+AA36) -> 5318.33 | G36: =SUM(D36-F36) -> 0 | P36: 2605.4 | Q36: 2705.13 | R36: =SUM(Q36/P36*100) -> 103.82782 | S36: 2705.13 | U36: 2613.2 | W36: 2613.2
A37: 1.2 | B37: Учет муниципального имущества и формирование муниципальной собственности на объекты капитального строительства | C37: =SUM(H37+L37+P37+T37+X37) -> 220 | D37: =SUM(I37+M37+Q37+U37+Y37) -> 216.33 | E37: =SUM(D37/C37*100) -> 98.331818 | F37: =SUM(K37+O37+S37+W37+AA37) -> 216.33 | G37: =SUM(D37-F37) -> 0 | P37: 220 | Q37: 216.33 | R37: =SUM(Q37/P37*100) -> 98.331818 | S37: 216.33
A38: 1.3 | B38: Управление муниципальным имуществом | C38: =SUM(H38+L38+P38+T38+X38) -> 280 | D38: =SUM(I38+M38+Q38+U38+Y38) -> 273.17 | E38: =SUM(D38/C38*100) -> 97.560714 | F38: =SUM(K38+O38+S38+W38+AA38) -> 273.17 | G38: =SUM(D38-F38) -> 0 | P38: 280 | Q38: 273.17 | R38: =SUM(Q38/P38*100) -> 97.560714 | S38: 273.17
A39: 1.4 | B39: Формирование муниципальной собственности на землю | C39: =SUM(H39+L39+P39+T39+X39) -> 100 | D39: =SUM(I39+M39+Q39+U39+Y39) -> 0 | E39: =SUM(D39/C39*100) -> 0 | F39: =SUM(K39+O39+S39+W39+AA39) -> 0 | G39: =SUM(D39-F39) -> 0 | P39: 100 | R39: =SUM(Q39/P39*100) -> 0
A40: 1.5 | B40: Организация учета использования земель в МР "Горный улус" | C40: =SUM(H40+L40+P40+T40+X40) -> 50 | D40: =SUM(I40+M40+Q40+U40+Y40) -> 160.5 | E40: =SUM(D40/C40*100) -> 321 | F40: =SUM(K40+O40+S40+W40+AA40) -> 160.5 | G40: =SUM(D40-F40) -> 0 | P40: 50 | Q40: 160.5 | R40: =SUM(Q40/P40*100) -> 321 | S40: 160.5
A41: 6 | B41: Развитие предпринимательства и туризма в Горном улусе в МР "Горный улус" на 2012-2017 годы | C41: =SUM(C42:C53) -> 7337.35 | D41: =SUM(D42:D53) -> 5588.544 | E41: =SUM(D41/C41*100) -> 76.1657 | F41: =SUM(K41+O41+S41+W41+AA41) -> 5190.08 | G41: =SUM(D41-F41) -> 398.464 | L41: =SUM(L42:L53) -> 1334.35 | N41: =SUM(M41/L41*100) -> 0 | P41: =SUM(P42:P53) -> 6003 | Q41: =SUM(Q42:Q53) -> 5588.544 | R41: =SUM(Q41/P41*100) -> 93.095852 | S41: =SUM(S42:S53) -> 5190.08 | U41: =SUM(U42:U53) -> 0
...

Sheet форма2
E1: Приложение 1
A2: Исполнение целевых индикаторов для оценки эффективности реализации муниципальных программ Горного улуса по состоянию на 01 января 2018 года
A4: Наименование программы/подпрограммы/индикатора | B4: Единица измерения | C4: План | D4: Факт | E4: % | F4: Средний показатель МП
C6: 2017 год
A7: 1 | B7: 2 | C7: 3 | D7: 4 | E7: 5 | F7: 6
A8: 1. Муниципальная программа «Обеспечение качественным жильем в МР «Горный улус» на 2012-2019 годы" | F8: =(E10+E11+E12+E16+E17+E20+E21+E28+E29+E31+E33+E15+E26)/13 -> 90.979155
A9: Цель-обеспечение населения МР «Горный улус» качественным и доступным жильем
A10: Годовой объем ввода жилья, всего | B10: кв.м | C10: =SUM(C11:C12) -> 9395 | D10: =SUM(D11:D12) -> 11711 | E10: =D10/C10*100 -> 124.65141
A11: в т.ч. Многоквартирные дома | B11: кв.м | C11: 2395 | D11: 2660 | E11: =D11/C11*100 -> 111.06472
A12: ИЖС | B12: кв.м | C12: 7000 | D12: 9051 | E12: =D12/C12*100 -> 129.3
A13: Градостроительное планирование, развитие территорий. Снижение административных барьеров в области строительства
A14: Разработка и утверждение схемы территориального планирования МР «Горный улус» | B14: ед. | C14: 0 | D14: 0
A15: Количество населенных пунктов, принявших генеральные планы | B15: ед. | C15: 6 | D15: 4 | E15: =D15/C15*100 -> 66.666667
A16: Количество населенных пунктов, принявших правила землепользования | B16: ед. | C16: 5 | D16: 0 | E16: =D16/C16*100 -> 0
A17: Количество населенных пунктов, территория которых обеспечена проектами планировки | B17: ед. | C17: 1 | D17: 0 | E17: =D17/C17*100 -> 0
A18: Количество населенных пунктов, территория которых обеспечена нормативами градостроительного проектирования | B18: ед. | C18: 0 | D18: 0
A19: Переселение граждан из ветхого и аварийного жилищного фонда
A20: Общий объем освобожденного жилищного фонда | B20: кв.м | C20: 1437 | D20: 2660 | E20: =D20/C20*100 -> 185.10786
A21: Удельный вес ветхого и аварийного жилищного фонда | B21: % | C21: 25.54 | D21: 24.95 | E21: =D21/C21*100 -> 97.689898
A22: Обеспечение жильем работников бюджетной сферы
A23: Количество семей | B23: семей | C23: 0 | D23: 0
A24: Ввод жилья | B24: кв.м | C24: 0 | D24: 0
A25: Комплексное освоение и развитие территорий в целях жилищного строительства
A26: Дополнительный ввод жилья | B26: кв.м | C26: 3057 | D26: 2660 | E26: =D26/C26*100 -> 87.013412
A27: Индивидуальное жилищное строительство
A28: Количество семей | B28: семей | C28: 18 | D28: 13 | E28: =D28/C28*100 -> 72.222222
A29: Ввод жилья | B29: кв.м | C29: 600 | D29: 931 | E29: =D29/C29*100 -> 155.16667
A30: Обеспечение жильем молодых семей
A31: Молодые семьи, улучшившие жилищные условия с помощью социальных выплат | B31: семей | C31: 13 | D31: 20 | E31: =D31/C31*100 -> 153.84615
A32: Обеспечение жильем отдельных категорий граждан
A33: Количество семей | B33: семей | C33: 6 | D33: 0 | E33: =D33/C33*100 -> 0
A34: Строительство жилищного фонда социального использования
A35: Ввод жилья | B35: кв.м. | C35: 0 | D35: 0 | E35: 0
A36: Повышение доступности рынка многоквартирных домов
A37: Количество семей | B37: семей | C37: 0 | D37: 0
A38: Ввод жилья | B38: кв.м. | C38: 0 | D38: 0
A39: Ипотечное кредитование молодых учителей
A40: Количество молодых учителей | B40: чел. | C40: 0 | D40: 0
A41: 2. Муниципальная программа "Дорожное хозяйство на 2012-2019 годы" | F41: =(E43+E44+E45+E46)/4 -> 78.95893
A42: Цель-обеспечение доступности населенных пунктов и рынков сбыта производимой продукции, улучшение транспортно-эксплуатационных качеств автомобильных дорог общего пользования
...

Sheet оценка
A1: Оценка эффективности реализации муниципальных программ МР "Горный улус" за 2017г.
V3: балл
B4: Обеспечение качественным жильем | C4: Дорожное хозяйство МР "Горный улус" | D4: Энергосбережение на территории МР "Горный улус" | E4: Развитие сельского хозяйства | F4: Управление собственностью МР "Горный улус" | G4: Развитие предпринимательства и туризма МР "Горный улус" | H4: Развитие информационного общества | I4: Повышение эффективности бюджетных расходов | J4: Развитие муниципальной службы | K4: Охрана труда | L4: Старшее поколение МР "Горный улус" | M4: НКО | N4: Безбарьерная среда в МР "Горный улус" | O4: Семейная политика в Горном улусе | P4: Профилактика безнадзорности и правонарушений несовершеннолетних | Q4: Профилактика правонарушений на территории МР "Горный улус" | R4: Молодежь Горного улуса | S4: Физическая культура и спорт | T4: Создание условий для культурно-духовного развития граждан Горного улуса | U4: "Развитие образования МР "Горный улус" | V4: охрана окружающей среды
A5: => эффективную - при 80 <= Экол.<= 100; | B5: 81.5 | C5: 95 | E5: 91.5 | F5: 85 | H5: 83.5 | I5: 80 | K5: 95 | P5: 83.5 | R5: 84 | T5: 95 | U5: 98.5 | V5: 83
A6: => умеренно эффективную - при 60 <= Экол.<= 80; | D6: 75 | G6: 73 | J6: 80 | L6: 77.5 | M6: 65 | N6: 64 | O6: 69 | S6: 79
A7: => недостаточно эффективную - при 40 <= Экол.<= 60;
A8: => неэффективную - при Экол.< 40.

Sheet Лист1
D1: Финансирование муниципальных программ за 2017год по МР "Горный улус"
C3: всего | H3: федеральный бюджет | L3: гоусдарственный бюджет | P3: мр | T3: мо | X3: внебюджетные средсвта
C4: план | D4: факт | E4: % | F4: кассовый расход | G4: остаток | H4: план | I4: факт | J4: % | K4: кассовый расход | L4: план | M4: факт | N4: % | O4: кассовый расход | P4: план | Q4: факт | R4: % | S4: кассовый расход | T4: план | U4: факт | V4: % | W4: кассовый расход | X4: план | Y4: факт | Z4: % | AA4: кассовый расход
A5: 1 | B5: Развития образования в МР "Горный улус" на 2012-2017 годы | C5: =SUM(C6:C10) -> 905209.3 | D5: =SUM(D6:D10) -> 967615.89 | E5: =SUM(D5/C5*100) -> 106.89416 | F5: =SUM(K5+O5+S5+W5+AA5) -> 950501.1 | G5: =SUM(D5-F5) -> 17114.79 | H5: =SUM(H6:H10) -> 3606.7 | I5: =SUM(I6:I10) -> 3606.7 | J5: =SUM(I5/H5*100) -> 100 | K5: =SUM(K6:K10) -> 3606.7 | L5: =SUM(L6:L10) -> 480486.2 | M5: =SUM(M6:M10) -> 522767.97 | N5: =SUM(M5/L5*100) -> 108.79979 | O5: =SUM(O6:O10) -> 519308.5 | P5: =SUM(P6:P10) -> 406447.6 | Q5: =SUM(Q6:Q10) -> 426087.02 | R5: =SUM(Q5/P5*100) -> 104.83197 | S5: =SUM(S6:S10) -> 412431.7 | X5: =SUM(X6:X10) -> 14668.8 | Y5: =SUM(Y6:Y10) -> 15154.2 | Z5: =SUM(Y5/X5*100) -> 103.30906 | AA5: =SUM(AA6:AA10) -> 15154.2
B6: Совершенствование дошкольного образования | C6: =SUM(H6+L6+P6+T6+X6) -> 285040.8 | D6: =SUM(I6+M6+Q6+U6+Y6) -> 285101.93 | E6: =SUM(D6/C6*100) -> 100.02145 | F6: =SUM(K6+O6+S6+W6+AA6) -> 281240 | G6: =SUM(D6-F6) -> 3861.93 | L6: 152109 | M6: 156090.23 | N6: =SUM(M6/L6*100) -> 102.61735 | O6: 155352.3 | P6: 120203.8 | Q6: 116872.2 | R6: =SUM(Q6/P6*100) -> 97.228374 | S6: 113748.2 | X6: 12728 | Y6: 12139.5 | Z6: =SUM(Y6/X6*100) -> 95.376336 | AA6: 12139.5
B7: Совершенствование общего образования | C7: =SUM(H7+L7+P7+T7+X7) -> 512394.8 | D7: =SUM(I7+M7+Q7+U7+Y7) -> 552607.88 | E7: =SUM(D7/C7*100) -> 107.84807 | F7: =SUM(K7+O7+S7+W7+AA7) -> 544539.6 | G7: =SUM(D7-F7) -> 8068.28 | H7: 2925.4 | I7: 2925.4 | J7: =SUM(I7/H7*100) -> 100 | K7: 2925.4 | L7: 323476.9 | M7: 350841.14 | N7: =SUM(M7/L7*100) -> 108.45941 | O7: 350646.9 | P7: 184289.7 | Q7: 196146.14 | R7: =SUM(Q7/P7*100) -> 106.43359 | S7: 188272.1 | X7: 1702.8 | Y7: 2695.2 | Z7: =SUM(Y7/X7*100) -> 158.28048 | AA7: 2695.2
B8: Совершенствование дополнительного образования | C8: =SUM(H8+L8+P8+T8+X8) -> 63373.6 | D8: =SUM(I8+M8+Q8+U8+Y8) -> 66376.7 | E8: =SUM(D8/C8*100) -> 104.73872 | F8: =SUM(K8+O8+S8+W8+AA8) -> 66342.2 | G8: =SUM(D8-F8) -> 34.5 | H8: 681.3 | I8: 681.3 | J8: =SUM(I8/H8*100) -> 100 | K8: 681.3 | L8: 1002.3 | M8: 5313.5 | N8: =SUM(M8/L8*100) -> 530.1307 | O8: 5286 | P8: 61572 | Q8: 60361.9 | R8: =SUM(Q8/P8*100) -> 98.034659 | S8: 60354.9 | X8: 118 | Y8: 20 | Z8: =SUM(Y8/X8*100) -> 16.949153 | AA8: 20
B9: Совершенствование ресурсного обеспечения системы образования | C9: =SUM(H9+L9+P9+T9+X9) -> 38802.1 | D9: =SUM(I9+M9+Q9+U9+Y9) -> 57470.08 | E9: =SUM(D9/C9*100) -> 148.11075 | F9: =SUM(K9+O9+S9+W9+AA9) -> 52320 | G9: =SUM(D9-F9) -> 5150.08 | M9: 6625.1 | O9: 4125.3 | P9: 38682.1 | Q9: 50545.48 | R9: =SUM(Q9/P9*100) -> 130.66891 | S9: 47895.2 | X9: 120 | Y9: 299.5 | Z9: =SUM(Y9/X9*100) -> 249.58333 | AA9: 299.5
B10: Обеспечение доступности полноценного (качественного) отдыха и оздоровления детей | C10: =SUM(H10+L10+P10+T10+X10) -> 5598 | D10: =SUM(I10+M10+Q10+U10+Y10) -> 6059.3 | E10: =SUM(D10/C10*100) -> 108.24044 | F10: =SUM(K10+O10+S10+W10+AA10) -> 6059.3 | G10: =SUM(D10-F10) -> 0 | L10: 3898 | M10: 3898 | N10: =SUM(M10/L10*100) -> 100 | O10: 3898 | P10: 1700 | Q10: 2161.3 | R10: =SUM(Q10/P10*100) -> 127.13529 | S10: 2161.3
A11: 2 | B11: Создание условий для духовно-культурного развития граждан в МР "Горный улус" на 2012-2017 годы | C11: =SUM(C12:C15) -> 89681.4 | D11: =SUM(D12:D15) -> 96021.362 | E11: =SUM(D11/C11*100) -> 107.06943 | F11: =SUM(K11+O11+S11+W11+AA11) -> 91064.397 | G11: =SUM(D11-F11) -> 4956.9643 | I11: 168.6 | M11: =SUM(M12:M15) -> 1558.8 | P11: =SUM(P12:P15) -> 41596 | Q11: =SUM(Q12:Q15) -> 41212.462 | R11: =SUM(Q11/P11*100) -> 99.077944 | S11: =SUM(S12:S15) -> 40974.997 | T11: =SUM(T12:T15) -> 47085.4 | U11: =SUM(U12:U15) -> 50089.4 | V11: =SUM(U11/T11*100) -> 106.3799 | W11: =SUM(W12:W15) -> 50089.4 | Y11: =SUM(Y12:Y15) -> 3160.7 | AA11: =SUM(AA12:AA15) -> 0
B12: Стратегическое направление "Управление программой" | C12: =SUM(H12+L12+P12+T12+X12) -> 8401 | D12: =SUM(I12+M12+Q12+U12+Y12) -> 8648.4917 | E12: =SUM(D12/C12*100) -> 102.94598 | F12: =SUM(K12+O12+S12+W12+AA12) -> 8411.0274 | G12: =SUM(D12-F12) -> 237.46433 | P12: 8401 | Q12: 8648.4917 | R12: =SUM(Q12/P12*100) -> 102.94598 | S12: 8411.0274
B13: Развитие народного творчества и культурно - досуговой деятельности Горного улуса | C13: 52148.4 | D13: =SUM(I13+M13+Q13+U13+Y13) -> 54505.52 | E13: =SUM(D13/C13*100) -> 104.52002 | F13: =SUM(K13+O13+S13+W13+AA13) -> 50815.42 | G13: =SUM(D13-F13) -> 3690.1 | M13: 1107.9 | O13: 480 | P13: 13199 | Q13: 11717.72 | R13: =SUM(Q13/P13*100) -> 88.777332 | S13: 11717.72 | T13: 37949.4 | U13: 38617.7 | V13: =SUM(U13/T13*100) -> 101.76103 | W13: 38617.7 | Y13: 3062.2
B14: Развитие библиотечного дела в Горном улусе | C14: =SUM(H14+L14+P14+T14+X14) -> 20066 | D14: =SUM(I14+M14+Q14+U14+Y14) -> 21309.25 | E14: =SUM(D14/C14*100) -> 106.1958 | F14: =SUM(K14+O14+S14+W14+AA14) -> 21309.25 | G14: =SUM(D14-F14) -> 0 | M14: 303 | O14: 303 | P14: 19996 | Q14: 20846.25 | R14: =SUM(Q14/P14*100) -> 104.2521 | S14: 20846.25 | T14: 70 | U14: 160 | V14: =SUM(U14/T14*100) -> 228.57143 | W14: 160
B15: Развитие музейного дела в Горном улусе | C15: =SUM(H15+L15+P15+T15+X15) -> 9066 | D15: =SUM(I15+M15+Q15+U15+Y15) -> 11558.1 | E15: =SUM(D15/C15*100) -> 127.48842 | F15: =SUM(K15+O15+S15+W15+AA15) -> 11459.6 | G15: =SUM(D15-F15) -> 98.5 | M15: 147.9 | O15: 147.9 | T15: 9066 | U15: 11311.7 | V15: =SUM(U15/T15*100) -> 124.77057 | W15: 11311.7 | Y15: 98.5
A16: 3 | B16: Обеспечение качественным жильем в МР "Горный улус" на 2012-2019 годы | C16: =SUM(C17:C26) -> 251234.22 | D16: =SUM(D17:D26) -> 165060.36 | E16: =SUM(D16/C16*100) -> 65.699792 | F16: =SUM(K16+O16+S16+W16+AA16) -> 163402.38 | G16: =SUM(D16-F16) -> 1657.98 | H16: =SUM(H17:H26) -> 3000 | I16: =SUM(I17:I26) -> 6001.23 | J16: =SUM(I16/H16*100) -> 200.041 | K16: =SUM(K17:K26) -> 6001.23 | L16: =SUM(L17:L26) -> 163646.84 | M16: =SUM(M17:M26) -> 145567.26 | N16: =SUM(M16/L16*100) -> 88.952075 | O16: =SUM(O17:O26) -> 145567.26 | P16: =SUM(P17:P26) -> 8163.76 | Q16: =SUM(Q17:Q26) -> 3033.04 | R16: =SUM(Q16/P16*100) -> 37.152489 | S16: =SUM(S17:S26) -> 3467.65 | T16: =SUM(T17:T26) -> 3088.76 | U16: =SUM(U17:U26) -> 2500 | V16: =SUM(U16/T16*100) -> 80.938629 | W16: =SUM(W17:W26) -> 2500 | X16: =SUM(X17:X26) -> 73334.86 | Y16: =SUM(Y17:Y26) -> 7958.83 | Z16: =SUM(Y16/X16*100) -> 10.852724 | AA16: =SUM(AA17:AA26) -> 5866.24
B17: Градостроительное планирование развития территорий. Снижение административных барьеров в области строительства | C17: =SUM(H17+L17+P17+T17+X17) -> 1250 | D17: =SUM(I17+M17+Q17+U17+Y17) -> 1216.23 | F17: =SUM(K17+O17+S17+W17+AA17) -> 1216.23 | G17: =SUM(D17-F17) -> 0 | M17: 478.89 | O17: 478.89 | P17: 800 | Q17: 287.34 | R17: =SUM(Q17/P17*100) -> 35.9175 | S17: 287.34 | T17: 450 | U17: 450 | V17: =SUM(U17/T17*100) -> 100 | W17: 450
B18: Переселение граждан из ветхого и аварийного жилищного фонда | C18: =SUM(H18+L18+P18+T18+X18) -> 144909.22 | D18: =SUM(I18+M18+Q18+U18+Y18) -> 136261.46 | E18: =SUM(D18/C18*100) -> 94.032291 | F18: =SUM(K18+O18+S18+W18+AA18) -> 137637.84 | G18: =SUM(D18-F18) -> -1376.38 | L18: 114446.84 | M18: 136261.46 | N18: =SUM(M18/L18*100) -> 119.06092 | O18: 136261.46 | P18: 1913.76 | R18: =SUM(Q18/P18*100) -> 0 | S18: 1376.38 | T18: 713.76 | V18: =SUM(U18/T18*100) -> 0 | X18: 27834.86 | Z18: =SUM(Y18/X18*100) -> 0
B19: Обеспечение жильем работников бюджетной сферы | C19: =SUM(H19+L19+P19+T19+X19) -> 0 | D19: =SUM(I19+M19+Q19+U19+Y19) -> 0 | F19: =SUM(K19+O19+S19+W19+AA19) -> 0 | G19: =SUM(D19-F19) -> 0
B20: Комплексное освоение и развитие территорий в целях жилищного строительства | C20: =SUM(H20+L20+P20+T20+X20) -> 0 | D20: =SUM(I20+M20+Q20+U20+Y20) -> 0 | F20: =SUM(K20+O20+S20+W20+AA20) -> 0 | G20: =SUM(D20-F20) -> 0
B21: Индивидуальное жилищное строительство | C21: =SUM(H21+L21+P21+T21+X21) -> 38650 | D21: =SUM(I21+M21+Q21+U21+Y21) -> 13782.61 | E21: =SUM(D21/C21*100) -> 35.660052 | F21: =SUM(K21+O21+S21+W21+AA21) -> 10748.25 | G21: =SUM(D21-F21) -> 3034.36 | L21: 20000 | M21: 4673.78 | N21: =SUM(M21/L21*100) -> 23.3689 | O21: 4673.78 | P21: 1000 | Q21: 1000 | R21: =SUM(Q21/P21*100) -> 100 | S21: 58.23 | T21: 650 | U21: 150 | V21: =SUM(U21/T21*100) -> 23.076923 | W21: 150 | X21: 17000 | Y21: 7958.83 | Z21: =SUM(Y21/X21*100) -> 46.816647 | AA21: 5866.24
B22: Обеспечение жильем молодых семей | C22: =SUM(H22+L22+P22+T22+X22) -> 8475 | D22: =SUM(I22+M22+Q22+U22+Y22) -> 13800.06 | E22: =SUM(D22/C22*100) -> 162.83257 | F22: =SUM(K22+O22+S22+W22+AA22) -> 13800.06 | G22: =SUM(D22-F22) -> 0 | H22: 3000 | I22: 6001.23 | J22: =SUM(I22/H22*100) -> 200.041 | K22: 6001.23 | L22: 1700 | M22: 4153.13 | N22: =SUM(M22/L22*100) -> 244.30176 | O22: 4153.13 | P22: 2500 | Q22: 1745.7 | R22: =SUM(Q22/P22*100) -> 69.828 | S22: 1745.7 | T22: 1275 | U22: 1900 | V22: =SUM(U22/T22*100) -> 149.01961 | W22: 1900
B23: Обеспечение жильем отдельных категорий граждан | C23: =SUM(H23+L23+P23+T23+X23) -> 11600 | D23: =SUM(I23+M23+Q23+U23+Y23) -> 0 | E23: =SUM(D23/C23*100) -> 0 | F23: =SUM(K23+O23+S23+W23+AA23) -> 0 | G23: =SUM(D23-F23) -> 0 | L23: 10500 | N23: =SUM(M23/L23*100) -> 0 | P23: 1100 | R23: =SUM(Q23/P23*100) -> 0
B24: Строительство жилищного фонда социального использования | C24: =SUM(H24+L24+P24+T24+X24) -> 0 | D24: =SUM(I24+M24+Q24+U24+Y24) -> 0 | F24: =SUM(K24+O24+S24+W24+AA24) -> 0 | G24: =SUM(D24-F24) -> 0
B25: Повышение доступности рынка многоквартирных жилых домов | C25: =SUM(H25+L25+P25+T25+X25) -> 46350 | D25: =SUM(I25+M25+Q25+U25+Y25) -> 0 | E25: =SUM(D25/C25*100) -> 0 | F25: =SUM(K25+O25+S25+W25+AA25) -> 0 | G25: =SUM(D25-F25) -> 0 | L25: 17000 | N25: =SUM(M25/L25*100) -> 0 | P25: 850 | R25: =SUM(Q25/P25*100) -> 0 | X25: 28500 | Z25: =SUM(Y25/X25*100) -> 0
B26: Ипотечное кредитование молодых учителей | C26: =SUM(H26+L26+P26+T26+X26) -> 0 | D26: =SUM(I26+M26+Q26+U26+Y26) -> 0 | F26: =SUM(K26+O26+S26+W26+AA26) -> 0 | G26: =SUM(D26-F26) -> 0 | R26: =SUM(Q26/P26*100) -> #DIV/0!
A27: 4 | B27: Дорожное хозяйство на 2012-2019 годы | C27: =SUM(C28:C30) -> 40400 | D27: =SUM(D28:D30) -> 39721.675 | E27: =SUM(D27/C27*100) -> 98.320977 | F27: =SUM(K27+O27+S27+W27+AA27) -> 38471.7 | G27: =SUM(D27-F27) -> 1249.9746 | L27: =SUM(L28:L30) -> 25000 | M27: =SUM(M28:M30) -> 22511.53 | N27: =SUM(M27/L27*100) -> 90.04612 | O27: 22511.53 | P27: =SUM(P28:P30) -> 15400 | Q27: =SUM(Q28:Q30) -> 17210.145 | R27: =SUM(Q27/P27*100) -> 111.75419 | S27: =SUM(S28:S30) -> 15960.17
B28: Содержание и эксплуатация муниципальных автомобильных дорог "Бердигестях -Дикимдя-Ерт", "Орто-Сурт - Кептин", "Дикимдя-Эбэ", "Бердигестях-Аэропорт" | C28: =SUM(H28+L28+P28+T28+X28) -> 3000 | D28: =SUM(I28+M28+Q28+U28+Y28) -> 3157.3473 | E28: =SUM(D28/C28*100) -> 105.24491 | F28: =SUM(K28+O28+S28+W28+AA28) -> 2907.37 | G28: =SUM(D28-F28) -> 249.97731 | P28: 3000 | Q28: 3157.3473 | R28: =SUM(Q28/P28*100) -> 105.24491 | S28: 2907.37
B29: Ремонт муниципальных межпоселковых автомобильных дорог | C29: =SUM(H29+L29+P29+T29+X29) -> 7000 | D29: =SUM(I29+M29+Q29+U29+Y29) -> 11867.25 | E29: =SUM(D29/C29*100) -> 169.53214 | F29: =SUM(K29+O29+S29+W29+AA29) -> 11867.25 | G29: =SUM(D29-F29) -> 0.00014 | P29: 7000 | Q29: 11867.25 | R29: =SUM(Q29/P29*100) -> 169.53214 | S29: 11867.25
B30: Проектирование и строительство муниципальных автомобильных дорог | C30: =SUM(H30+L30+P30+T30+X30) -> 30400 | D30: =SUM(I30+M30+Q30+U30+Y30) -> 24697.077 | E30: =SUM(D30/C30*100) -> 81.240385 | F30: =SUM(K30+O30+S30+W30+AA30) -> 23697.08 | G30: =SUM(D30-F30) -> 999.99712 | L30: 25000 | M30: 22511.53 | N30: =SUM(M30/L30*100) -> 90.04612 | O30: 22511.53 | P30: 5400 | Q30: 2185.5471 | R30: =SUM(Q30/P30*100) -> 40.473095 | S30: 1185.55
A31: 5 | B31: Развитие сельскохозяйственного производства в муниципальном районе "Горный улус" Республики Саха (Якутия) на 2012-2019 годы | C31: =SUM(C32:C43) -> 284921.94 | D31: =SUM(D32:D43) -> 253334.82 | E31: =SUM(D31/C31*100) -> 88.913764 | F31: =SUM(K31+O31+S31+W31+AA31) -> 253334.82 | G31: =SUM(D31-F31) -> 2.910383e-11 | H31: =SUM(H32:H43) -> 36075 | I31: =SUM(I32:I43) -> 24168.27 | J31: =SUM(I31/H31*100) -> 66.994511 | K31: =SUM(K32:K43) -> 24168.27 | L31: =SUM(L32:L43) -> 173959.6 | M31: =SUM(M32:M43) -> 160558.37 | N31: =SUM(M31/L31*100) -> 92.296355 | O31: =SUM(O32:O43) -> 160558.37 | P31: =SUM(P32:P43) -> 17881.18 | Q31: =SUM(Q32:Q43) -> 11691.18 | R31: =SUM(Q31/P31*100) -> 65.382598 | S31: =SUM(S32:S43) -> 11691.18 | T31: =SUM(T32:T43) -> 4300 | V31: =SUM(U31/T31*100) -> 0 | W31: =SUM(W32:W43) -> 0 | X31: =SUM(X32:X43) -> 52706.16 | Y31: =SUM(Y32:Y43) -> 56917 | Z31: =SUM(Y31/X31*100) -> 107.98927 | AA31: =SUM(AA32:AA43) -> 56917
B32: Развитие животноводства | C32: =SUM(H32+L32+P32+T32+X32) -> 30624 | D32: =SUM(I32+M32+Q32+U32+Y32) -> 22534.7 | E32: =SUM(D32/C32*100) -> 73.585097 | F32: =SUM(K32+O32+S32+W32+AA32) -> 22534.7 | G32: =SUM(D32-F32) -> 0 | H32: =SUM([1]сх!D58) -> 1100 | I32: 1971.12 | J32: =SUM(I32/H32*100) -> 179.19273 | K32: 1971.12 | L32: =SUM([1]сх!E58) -> 12980 | M32: 12252.67 | N32: =SUM(M32/L32*100) -> 94.396533 | O32: 12252.67 | P32: =SUM([1]сх!F58) -> 7050 | Q32: 3570.91 | R32: =SUM(Q32/P32*100) -> 50.651206 | S32: 3570.91 | X32: 9494 | Y32: 4740 | Z32: =SUM(Y32/X32*100) -> 49.926269 | AA32: 4740
B33: Развитие растениеводства | C33: =SUM(H33+L33+P33+T33+X33) -> 8655.5 | D33: =SUM(I33+M33+Q33+U33+Y33) -> 12370.12 | E33: =SUM(D33/C33*100) -> 142.9163 | F33: =SUM(K33+O33+S33+W33+AA33) -> 12370.12 | G33: =SUM(D33-F33) -> 0 | H33: =SUM([1]сх!D78) -> 1100 | J33: =SUM(I33/H33*100) -> 0 | L33: =SUM([1]сх!E78) -> 2584.2 | M33: 7368.25 | N33: =SUM(M33/L33*100) -> 285.12693 | O33: 7368.25 | P33: =SUM([1]сх!F78) -> 2050 | Q33: 5001.87 | R33: =SUM(Q33/P33*100) -> 243.99366 | S33: 5001.87 | T33: 100 | V33: =SUM(U33/T33*100) -> 0 | X33: 2821.3 | Z33: =SUM(Y33/X33*100) -> 0
B34: Развитие пищевой и перерабатывающей промышленности | C34: =SUM(H34+L34+P34+T34+X34) -> 161426.86 | D34: =SUM(I34+M34+Q34+U34+Y34) -> 154016.5 | E34: =SUM(D34/C34*100) -> 95.409463 | F34: =SUM(K34+O34+S34+W34+AA34) -> 154016.5 | G34: =SUM(D34-F34) -> 0 | H34: =SUM([1]сх!D99) -> 17200 | J34: =SUM(I34/H34*100) -> 0 | L34: =SUM([1]сх!E99) -> 100210 | M34: 116531.5 | N34: =SUM(M34/L34*100) -> 116.2873 | O34: 116531.5 | P34: =SUM([1]сх!F99) -> 2376 | Q34: 76 | R34: =SUM(Q34/P34*100) -> 3.1986532 | S34: 76 | T34: 1850 | V34: =SUM(U34/T34*100) -> 0 | X34: 39790.86 | Y34: 37409 | AA34: 37409
B35: Развитие мелиорации сельскохозяйственных земель | C35: =SUM(H35+L35+P35+T35+X35) -> 0 | D35: =SUM(I35+M35+Q35+U35+Y35) -> 0 | F35: =SUM(K35+O35+S35+W35+AA35) -> 0 | G35: =SUM(D35-F35) -> 0
B36: Развитие традиционных отраслей Севера | C36: =SUM(H36+L36+P36+T36+X36) -> 2905 | D36: =SUM(I36+M36+Q36+U36+Y36) -> 1155 | E36: =SUM(D36/C36*100) -> 39.759036 | F36: =SUM(K36+O36+S36+W36+AA36) -> 1155 | G36: =SUM(D36-F36) -> 0 | H36: =SUM([1]сх!D112) -> 50 | J36: =SUM(I36/H36*100) -> 0 | L36: =SUM([1]сх!E112) -> 2555 | M36: 855 | N36: =SUM(M36/L36*100) -> 33.463796 | O36: 855 | P36: 300 | Q36: 300 | R36: =SUM(Q36/P36*100) -> 100 | S36: 300
B37: Устойчивое развитие сельских территорий | C37: =SUM(H37+L37+P37+T37+X37) -> 20800 | D37: =SUM(I37+M37+Q37+U37+Y37) -> 38552.63 | E37: =SUM(D37/C37*100) -> 185.34918 | F37: =SUM(K37+O37+S37+W37+AA37) -> 38552.63 | G37: =SUM(D37-F37) -> 0 | H37: =SUM([1]сх!D121) -> 9600 | I37: 14785.15 | J37: =SUM(I37/H37*100) -> 154.01198 | K37: 14785.15 | L37: =SUM([1]сх!E121) -> 11200 | M37: 10274.48 | N37: =SUM(M37/L37*100) -> 91.736429 | O37: 10274.48 | Y37: 13493 | AA37: 13493
B38: Создание общих условий функционирования сельского хозяйства | C38: =SUM(H38+L38+P38+T38+X38) -> 2000 | D38: =SUM(I38+M38+Q38+U38+Y38) -> 3382 | E38: =SUM(D38/C38*100) -> 169.1 | F38: =SUM(K38+O38+S38+W38+AA38) -> 3382 | G38: =SUM(D38-F38) -> 0 | H38: =SUM([1]сх!D123) -> 900 | J38: =SUM(I38/H38*100) -> 0 | L38: 1100 | M38: 3382 | N38: =SUM(M38/L38*100) -> 307.45455 | O38: 3382
B39: Кадровое обеспечение | C39: =SUM(H39+L39+P39+T39+X39) -> 150 | D39: =SUM(I39+M39+Q39+U39+Y39) -> 0 | E39: =SUM(D39/C39*100) -> 0 | F39: =SUM(K39+O39+S39+W39+AA39) -> 0 | G39: =SUM(D39-F39) -> 0 | L39: 150 | N39: =SUM(M39/L39*100) -> 0
B40: Развитие кооперации и малых форм хозяйствования на селе | C40: =SUM(H40+L40+P40+T40+X40) -> 37225 | D40: =SUM(I40+M40+Q40+U40+Y40) -> 9775 | E40: =SUM(D40/C40*100) -> 26.259234 | F40: =SUM(K40+O40+S40+W40+AA40) -> 9775 | G40: =SUM(D40-F40) -> 0 | H40: =SUM([1]сх!D129) -> 4425 | I40: 7412 | J40: =SUM(I40/H40*100) -> 167.50282 | K40: 7412 | L40: =SUM([1]сх!E129) -> 31800 | M40: 1088 | N40: =SUM(M40/L40*100) -> 3.4213836 | O40: 1088 | P40: 500 | R40: =SUM(Q40/P40*100) -> 0 | T40: 500 | V40: =SUM(U40/T40*100) -> 0 | Y40: 1275 | AA40: 1275
B41: Комплексное обустройство населенных пунктов, расположенных в сельской местности, объектами социальной и инженерной инфраструктуры | C41: =SUM(H41+L41+P41+T41+X41) -> 4700 | D41: =SUM(I41+M41+Q41+U41+Y41) -> 0 | E41: =SUM(D41/C41*100) -> 0 | F41: =SUM(K41+O41+S41+W41+AA41) -> 0 | G41: =SUM(D41-F41) -> 0 | H41: 200 | J41: =SUM(I41/H41*100) -> 0 | L41: =SUM([1]сх!E133) -> 1700 | N41: =SUM(M41/L41*100) -> 0 | P41: 1500 | R41: =SUM(Q41/P41*100) -> 0 | T41: 1100 | V41: =SUM(U41/T41*100) -> 0 | X41: 200 | Z41: =SUM(Y41/X41*100) -> 0
...

Sheet Лист2
D1: Финансирование муниципальных программ за 2017год по МР "Горный улус"
C3: всего | H3: федеральный бюджет | L3: гоусдарственный бюджет | P3: мр | T3: мо | X3: внебюджетные средсвта
C4: план | D4: факт | E4: % | F4: кассовый расход | G4: остаток | H4: план | I4: факт | J4: % | K4: кассовый расход | L4: план | M4: факт | N4: % | O4: кассовый расход | P4: план | Q4: факт | R4: % | S4: кассовый расход | T4: план | U4: факт | V4: % | W4: кассовый расход | X4: план | Y4: факт | Z4: % | AA4: кассовый расход
A5: 1 | B5: Развития образования в МР "Горный улус" на 2012-2017 годы | C5: =SUM(C6:C10) -> 905209.3 | D5: =SUM(D6:D10) -> 950501.1 | E5: =SUM(D5/C5*100) -> 105.00346 | F5: =SUM(K5+O5+S5+W5+AA5) -> 950501.1 | G5: =SUM(D5-F5) -> 0 | H5: =SUM(H6:H10) -> 3606.7 | I5: =SUM(I6:I10) -> 3606.7 | J5: =SUM(I5/H5*100) -> 100 | K5: =SUM(K6:K10) -> 3606.7 | L5: =SUM(L6:L10) -> 480486.2 | M5: =SUM(M6:M10) -> 519308.5 | N5: =SUM(M5/L5*100) -> 108.0798 | O5: =SUM(O6:O10) -> 519308.5 | P5: =SUM(P6:P10) -> 406447.6 | Q5: =SUM(Q6:Q10) -> 412431.7 | R5: =SUM(Q5/P5*100) -> 101.47229 | S5: =SUM(S6:S10) -> 412431.7 | X5: =SUM(X6:X10) -> 14668.8 | Y5: =SUM(Y6:Y10) -> 15154.2 | Z5: =SUM(Y5/X5*100) -> 103.30906 | AA5: =SUM(AA6:AA10) -> 15154.2
B6: Совершенствование дошкольного образования | C6: =SUM(H6+L6+P6+T6+X6) -> 285040.8 | D6: =SUM(I6+M6+Q6+U6+Y6) -> 281240 | E6: =SUM(D6/C6*100) -> 98.666577 | F6: =SUM(K6+O6+S6+W6+AA6) -> 281240 | G6: =SUM(D6-F6) -> 0 | L6: 152109 | M6: 155352.3 | N6: =SUM(M6/L6*100) -> 102.13222 | O6: 155352.3 | P6: 120203.8 | Q6: 113748.2 | R6: =SUM(Q6/P6*100) -> 94.629454 | S6: 113748.2 | X6: 12728 | Y6: 12139.5 | Z6: =SUM(Y6/X6*100) -> 95.376336 | AA6: 12139.5
B7: Совершенствование общего образования | C7: =SUM(H7+L7+P7+T7+X7) -> 512394.8 | D7: =SUM(I7+M7+Q7+U7+Y7) -> 544539.6 | E7: =SUM(D7/C7*100) -> 106.27344 | F7: =SUM(K7+O7+S7+W7+AA7) -> 544539.6 | G7: =SUM(D7-F7) -> 0 | H7: 2925.4 | I7: 2925.4 | J7: =SUM(I7/H7*100) -> 100 | K7: 2925.4 | L7: 323476.9 | M7: 350646.9 | N7: =SUM(M7/L7*100) -> 108.39936 | O7: 350646.9 | P7: 184289.7 | Q7: 188272.1 | R7: =SUM(Q7/P7*100) -> 102.16095 | S7: 188272.1 | X7: 1702.8 | Y7: 2695.2 | Z7: =SUM(Y7/X7*100) -> 158.28048 | AA7: 2695.2
B8: Совершенствование дополнительного образования | C8: =SUM(H8+L8+P8+T8+X8) -> 63373.6 | D8: =SUM(I8+M8+Q8+U8+Y8) -> 66342.2 | E8: =SUM(D8/C8*100) -> 104.68428 | F8: =SUM(K8+O8+S8+W8+AA8) -> 66342.2 | G8: =SUM(D8-F8) -> 0 | H8: 681.3 | I8: 681.3 | J8: =SUM(I8/H8*100) -> 100 | K8: 681.3 | L8: 1002.3 | M8: 5286 | N8: =SUM(M8/L8*100) -> 527.38701 | O8: 5286 | P8: 61572 | Q8: 60354.9 | R8: =SUM(Q8/P8*100) -> 98.02329 | S8: 60354.9 | X8: 118 | Y8: 20 | Z8: =SUM(Y8/X8*100) -> 16.949153 | AA8: 20
